BEGIN:VCALENDAR
VERSION:2.0
METHOD:PUBLISH
PRODID:-//hacksw/handcal//NONSGML v1.0//EN
BEGIN:VEVENT
DTSTAMP:20260419T150043Z
DTSTART:20190613T213000Z
DTEND:20190613T233000Z
UID:20190613T213000Z-20190613T233000Z-1675@business.delaware.gov
SUMMARY:World Trade Center Delaware Summer Solstice Holiday Networking
  Party
DESCRIPTION:Join World Trade Center Delaware for an evening of network
 ing. World Trade Center Delaware will be joined by a Peruvian delegati
 on from the World Association of Women Entrepreneurs.\n\nAdmission: Fr
 ee\, but advance registration is required.\n\nClick here for registrat
 ion and information.
X-ALT-DESC;FMTTYPE=text/html:<p>Join World Trade Center Delaware for a
 n evening of networking. World Trade Center Delaware will be joined by
  a Peruvian delegation from the World Association of Women Entrepreneu
 rs.</p>\n<p><strong>Admission:</strong> Free\, but advance registratio
 n is required.</p>\n<p><a href=http://campaign.r20.constantcontact.com
 /render?m=1011255738068&amp\;ca=f201c97b-50de-44b6-af29-0903c14f8ed2>C
 lick here</a> for registration and information.</p>\n
URL:https://business.delaware.gov/events/world-trade-center-delaware-s
 ummer-solstice-holiday-networking-party/?lang=en
ATTACH:https://business.delaware.gov/events/world-trade-center-delawar
 e-summer-solstice-holiday-networking-party/?lang=en
LOCATION:The Hub@1201\, 1201 N. Orange Street\, Wilmington
END:VEVENT
END:VCALENDAR
