BEGIN:VCALENDAR
VERSION:2.0
METHOD:PUBLISH
PRODID:-//hacksw/handcal//NONSGML v1.0//EN
BEGIN:VEVENT
DTSTAMP:20260420T154210Z
DTSTART:20190424T121500Z
DTEND:20190424T140000Z
UID:20190424T121500Z-20190424T140000Z-177@business.delaware.gov
SUMMARY:Middletown Business Associates
DESCRIPTION:Business leads group that meets Wednesday mornings at MOT 
 Senior Center\, 300 S. Scott Street\, Middletown.\n\nClick here for in
 formation.
X-ALT-DESC;FMTTYPE=text/html:<p>Business leads group that meets Wednes
 day mornings at MOT Senior Center\, 300 S. Scott Street\, Middletown.<
 /p>\n<p><a href=https://www.maccde.com/events/details/middletown-busin
 ess-associates-01-09-2019-1123><strong>Click here</strong></a> for inf
 ormation.</p>\n
URL:https://business.delaware.gov/events/177/middletown-business-assoc
 iates/?lang=en
ATTACH:https://business.delaware.gov/events/177/middletown-business-as
 sociates/?lang=en
ATTACH:
LOCATION:MOT Senior Center\, 300 S. Scott Street\, Middletown
END:VEVENT
END:VCALENDAR
