BEGIN:VCALENDAR
VERSION:2.0
METHOD:PUBLISH
PRODID:-//hacksw/handcal//NONSGML v1.0//EN
BEGIN:VEVENT
DTSTAMP:20260420T150657Z
DTSTART:20190813T123000Z
DTEND:20190813T140000Z
UID:20190813T123000Z-20190813T140000Z-1970@business.delaware.gov
SUMMARY:Small Business Development Center workshop: alternative financ
 ing options
DESCRIPTION:As a small business owner\, getting the loan you need to h
 elp your business thrive can be challenging. Bank financing may or may
  not be the best means of debt structuring. Learn more from a panel of
  experts who have worked with businesses on alternative financing and 
 non-traditional options. Our presenters include: Rachel Baldini\, True
  Access Capital\; Dawn Hopkins\, Division of Small Business\; Margo Re
 ign\, Small Business Development Center. Join us and be introduced to 
 some other options that may work for your business.\n\nAdmission: Free
 \n\nClick here for registration and information.
X-ALT-DESC;FMTTYPE=text/html:<p>As a small business owner\, getting th
 e loan you need to help your business thrive can be challenging. Bank 
 financing may or may not be the best means of debt structuring. Learn 
 more from a panel of experts who have worked with businesses on altern
 ative financing and non-traditional options. Our presenters include: R
 achel Baldini\, True Access Capital\; Dawn Hopkins\, Division of Small
  Business\; Margo Reign\, Small Business Development Center. Join us a
 nd be introduced to some other options that may work for your business
 .</p>\n<p><strong>Admission:</strong> Free</p>\n<p><a href=https://cli
 ents.delawaresbdc.org/workshop.aspx?ekey=30390022>Click here</a> for r
 egistration and information.</p>\n
URL:https://business.delaware.gov/events/small-business-development-ce
 nter-workshop-alternative-financing-options/?lang=en
ATTACH:https://business.delaware.gov/events/small-business-development
 -center-workshop-alternative-financing-options/?lang=en
LOCATION:Milford Public Library\, 11 South East Street\, Milford
END:VEVENT
END:VCALENDAR
