BEGIN:VCALENDAR
VERSION:2.0
METHOD:PUBLISH
PRODID:-//hacksw/handcal//NONSGML v1.0//EN
BEGIN:VEVENT
DTSTAMP:20260421T005153Z
DTSTART:20191008T130000Z
DTEND:20191008T143000Z
UID:20191008T130000Z-20191008T143000Z-2218@business.delaware.gov
SUMMARY:Small Business Development Center: Promoting Small Business Sa
 turday with Social Media
DESCRIPTION:Learn how to use social media to promote Small Business Sa
 turday.\n\nThis workshop will provide retail businesses and restaurant
 s effective ideas and ways that they can utilize this year’s Small Bus
 iness Saturday campaign to help bring in additional customers. This wo
 rkshop will also provide a rough outline on a marketing campaign that 
 you (and other businesses) can utilize together to help drive increase
 d business on the Saturday after Thanksgiving.\n\nSponsored by the Sma
 ll Business Development Center and Rehoboth Beach Main Street.\n\nAdmi
 ssion: Free but advance registration is required.\n\nClick here for re
 gistration and information.
X-ALT-DESC;FMTTYPE=text/html:<p>Learn how to use social media to promo
 te Small Business Saturday.</p>\n<p>This workshop will provide retail 
 businesses and restaurants effective ideas and ways that they can util
 ize this year’s Small Business Saturday campaign to help bring in addi
 tional customers. This workshop will also provide a rough outline on a
  marketing campaign that you (and other businesses) can utilize togeth
 er to help drive increased business on the Saturday after Thanksgiving
 .</p>\n<p>Sponsored by the Small Business Development Center and Rehob
 oth Beach Main Street.</p>\n<p><strong>Admission:</strong> Free but ad
 vance registration is required.</p>\n<p><a href=https://clients.delawa
 resbdc.org/workshop.aspx?ekey=30390025>Click</a> here for registration
  and information.</p>\n
URL:https://business.delaware.gov/events/small-business-development-ce
 nter-promoting-small-business-saturday-with-social-media/?lang=en
ATTACH:https://business.delaware.gov/events/small-business-development
 -center-promoting-small-business-saturday-with-social-media/?lang=en
LOCATION:Rehoboth Beach City Hall\, 229 Rehoboth Avenue\, Rehoboth Bea
 ch
END:VEVENT
END:VCALENDAR
