BEGIN:VCALENDAR
VERSION:2.0
METHOD:PUBLISH
PRODID:-//hacksw/handcal//NONSGML v1.0//EN
BEGIN:VEVENT
DTSTAMP:20260419T213344Z
DTSTART:20191028T120000Z
DTEND:20191028T180000Z
UID:20191028T120000Z-20191028T180000Z-2323@business.delaware.gov
SUMMARY:U.S. Global Leadership Council: America's Role in the World\, 
 Why Leading Globally Matters Locally
DESCRIPTION:Join us for a dynamic half-day conference with Senator Chr
 is Coons and special guests (to be announced) on the positive impact o
 f global affairs programs in Delaware and the mid-Atlantic region.\n\n
 Click here for registration and information.
X-ALT-DESC;FMTTYPE=text/html:<p>Join us for a dynamic half-day confere
 nce with Senator Chris Coons and special guests (to be announced) on t
 he positive impact of global affairs programs in Delaware and the mid-
 Atlantic region.</p>\n<p>Click <a href=https://www.usglc.org/events/le
 ading-globally-matters-locally-de-2019/>here</a> for registration and 
 information.</p>\n
URL:https://business.delaware.gov/events/u-s-global-leadership-council
 -america-s-role-in-the-world-why-leading-globally-matters-locally/?lan
 g=en
ATTACH:https://business.delaware.gov/events/u-s-global-leadership-coun
 cil-america-s-role-in-the-world-why-leading-globally-matters-locally/?
 lang=en
LOCATION:Doubletree Downtown Wilmington\, 700 N. King Street\, Wilming
 ton
END:VEVENT
END:VCALENDAR
