BEGIN:VCALENDAR
VERSION:2.0
METHOD:PUBLISH
PRODID:-//hacksw/handcal//NONSGML v1.0//EN
BEGIN:VEVENT
DTSTAMP:20210724T000058Z
DTSTART:20191112T220000Z
DTEND:20191113T010000Z
UID:20191112T220000Z-20191113T010000Z-2400@business.delaware.gov
SUMMARY:Business Idea Assessment Workshop
DESCRIPTION:SCORE Delaware hosts a Business Idea Assessment workshop.\
 n\nIs your business idea a home run idea?\nEvaluating your idea in adv
 ance can help separate the good from the bad. Remember that a good ide
 a can become even better. Consider this list of ten questions that you
  absolutely\, positively need to ask yourself.\n\nAdmission: Free\n\nC
 lick here for registration and information.
X-ALT-DESC;FMTTYPE=text/html:<p>SCORE Delaware hosts a Business Idea A
 ssessment workshop.</p>\n<p>Is your business idea a home run idea?<br 
 />\nEvaluating your idea in advance can help separate the good from th
 e bad. Remember that a good idea can become even better. Consider this
  list of ten questions that you absolutely\, positively need to ask yo
 urself.</p>\n<p>Admission: Free</p>\n<p><a href=https://events.r20.con
 stantcontact.com/register/eventReg?oeidk=a07ego4k8cx065e5d67&amp\;oseq
 =&amp\;c=&amp\;ch=&amp\;fbclid=IwAR2IvoEUDx9n6Un1wRAU4TfXFbl4_fOOjNM4T
 IocxNNT4VNBn1erv7oPmRY>Click here</a> for registration and information
 .</p>\n
URL:https://business.delaware.gov/events/business-idea-assessment-work
 shop/
ATTACH:https://business.delaware.gov/events/business-idea-assessment-w
 orkshop/
LOCATION:New Castle Route 9 Library & Innovation Center\, 3022 New Cas
 tle Avenue\, New Castle
END:VEVENT
END:VCALENDAR
