BEGIN:VCALENDAR
VERSION:2.0
METHOD:PUBLISH
PRODID:-//hacksw/handcal//NONSGML v1.0//EN
BEGIN:VEVENT
DTSTAMP:20210724T000024Z
DTSTART:20191211T130000Z
DTEND:20191211T203000Z
UID:20191211T130000Z-20191211T203000Z-2510@business.delaware.gov
SUMMARY:New Castle County Chamber of Commerce Fintech Forum
DESCRIPTION:Join the New Castle County Chamber of Commerce for its Fin
 tech Forum.\n\nHear about the latest developments in fintech and hear 
 from speakers including Marlette Funding CEO Jeffrey Meiler.\n\nAdmiss
 ion: $95 for New Castle County Chamber members\, $125 for non-members.
 \n\nClick here for registration and information.
X-ALT-DESC;FMTTYPE=text/html:<p>Join the New Castle County Chamber of 
 Commerce for its Fintech Forum.</p>\n<p>Hear about the latest developm
 ents in fintech and hear from speakers including Marlette Funding CEO 
 Jeffrey Meiler.</p>\n<p>Admission: $95 for New Castle County Chamber m
 embers\, $125 for non-members.</p>\n<p><a href=http://business.ncccc.c
 om/events/details/fintech-forum-3552>Click here</a> for registration a
 nd information.</p>\n
URL:https://business.delaware.gov/events/new-castle-county-chamber-of-
 commerce-fintech-forum/
ATTACH:https://business.delaware.gov/events/new-castle-county-chamber-
 of-commerce-fintech-forum/
LOCATION:Chase Center on the Riverfront\, 815 Justison St\, Wilmington
END:VEVENT
END:VCALENDAR
