BEGIN:VCALENDAR
VERSION:2.0
METHOD:PUBLISH
PRODID:-//hacksw/handcal//NONSGML v1.0//EN
BEGIN:VEVENT
DTSTAMP:20260419T235355Z
DTSTART:20200115T153000Z
DTEND:20200115T170000Z
UID:20200115T153000Z-20200115T170000Z-2716@business.delaware.gov
SUMMARY:Delaware Small Business Chamber: Tax reform lunch 'n learn
DESCRIPTION:Block Advisors\, our instructors\, will explain to the mem
 bers tax law changes that impact business entities such as Corporation
 s\, S-corporations\, Partnerships and Sole Proprietors.\n\nAdmission: 
 Free for Chamber members\, $25 for non-members.\n\nClick here for regi
 stration and information.
X-ALT-DESC;FMTTYPE=text/html:<p>Block Advisors\, our instructors\, wil
 l explain to the members tax law changes that impact business entities
  such as Corporations\, S-corporations\, Partnerships and Sole Proprie
 tors.</p>\n<p><strong>Admission:</strong> Free for Chamber members\, $
 25 for non-members.</p>\n<p><a href=https://business.dsbchamber.com/ev
 ents/details/seminar-small-business-tax-reform-lunch-n-learn-5692>Clic
 k here</a> for registration and information.</p>\n
URL:https://business.delaware.gov/events/delaware-small-business-chamb
 er-tax-reform-lunch-n-learn/?lang=en
ATTACH:https://business.delaware.gov/events/delaware-small-business-ch
 amber-tax-reform-lunch-n-learn/?lang=en
LOCATION:Delaware Small Business Chamber\, 11F Liberty Plaza\, Newark
END:VEVENT
END:VCALENDAR
