BEGIN:VCALENDAR
VERSION:2.0
METHOD:PUBLISH
PRODID:-//hacksw/handcal//NONSGML v1.0//EN
BEGIN:VEVENT
DTSTAMP:20260421T165741Z
DTSTART:20200414T220000Z
DTEND:20200415T000000Z
UID:20200414T220000Z-20200415T000000Z-2916@business.delaware.gov
SUMMARY:SCORE Delaware: Introduction to Business Plan Writing
DESCRIPTION:Need a kick-start when it comes to documenting your Busine
 ss Plan? This workshop will provide an overview of the basic sections 
 and how to populate the 3 standard financial statements you will need 
 to determine if your business idea will lead to a successful startup. 
 After start up the Business Plan allows you to set a course for your b
 usiness.\n\nAdmission: Free\n\nClick here for registration and informa
 tion.
X-ALT-DESC;FMTTYPE=text/html:<p>Need a kick-start when it comes to doc
 umenting your Business Plan? This workshop will provide an overview of
  the basic sections and how to populate the 3 standard financial state
 ments you will need to determine if your business idea will lead to a 
 successful startup. After start up the Business Plan allows you to set
  a course for your business.</p>\n<p><strong>Admission:</strong> Free<
 /p>\n<p><a href=https://delaware.score.org/event/introduction-business
 -plan-writing>Click here</a> for registration and information.</p>\n
URL:https://business.delaware.gov/events/score-delaware-introduction-t
 o-business-plan-writing-2/?lang=en
ATTACH:https://business.delaware.gov/events/score-delaware-introductio
 n-to-business-plan-writing-2/?lang=en
LOCATION:New Castle Route 9 Library & Innovation Center\, 3022 New Cas
 tle Avenue\, New Castle
END:VEVENT
END:VCALENDAR
