BEGIN:VCALENDAR
VERSION:2.0
METHOD:PUBLISH
PRODID:-//hacksw/handcal//NONSGML v1.0//EN
BEGIN:VEVENT
DTSTAMP:20260423T101630Z
DTSTART:20200513T120000Z
DTEND:20200514T010000Z
UID:20200513T120000Z-20200514T010000Z-3035@business.delaware.gov
SUMMARY:Central Delaware Chamber of Commerce: Coffee Coaching
DESCRIPTION:Gordon English of Liberty Tax Service will give a presenta
 tion on tax planning and why it is necessary.\n\nClick here for inform
 ation and registration.
X-ALT-DESC;FMTTYPE=text/html:<p>Gordon English of Liberty Tax Service 
 will give a presentation on tax planning and why it is necessary.</p>\
 n<p><a href=https://cca.cdcc.net/EvtListing.aspx?dbid2=DECDEL&amp\;evt
 id=150444&amp\;class=E>Click here</a> for information and registration
 .</p>\n
URL:https://business.delaware.gov/events/central-delaware-chamber-of-c
 ommerce-coffee-coaching-5/?lang=en
ATTACH:https://business.delaware.gov/events/central-delaware-chamber-o
 f-commerce-coffee-coaching-5/?lang=en
LOCATION:Central Delaware Chamber of Commerce\, 435 N. DuPont Highway\
 , Dover
END:VEVENT
END:VCALENDAR
