BEGIN:VCALENDAR
VERSION:2.0
METHOD:PUBLISH
PRODID:-//hacksw/handcal//NONSGML v1.0//EN
BEGIN:VEVENT
DTSTAMP:20260419T143536Z
DTSTART:20200225T133000Z
DTEND:20200225T153000Z
UID:20200225T133000Z-20200225T153000Z-3074@business.delaware.gov
SUMMARY:New Castle County is Open for Business
DESCRIPTION:Join us on the fourth Thursday of each month from 9:30 am 
 - 11:30 am for our Open for Business sessions held at 920 Justison Str
 eet and meet with representatives from our partner organizations. Coll
 ectively\, these organizations provide a range of services that help s
 tart-ups advance their business model\, reach potential customers\, la
 nd government contracts\, secure loans\, meet state regulatory require
 ments and generally mentor entrepreneurs striking out on their own for
  the first time. Join us for coffee and network with potential partner
 s and suppliers.\n\nAdmission: Free. Registration is suggested. Walk-i
 ns welcome.\n\nClick here for registration and information.
X-ALT-DESC;FMTTYPE=text/html:<p>Join us on the fourth Thursday of each
  month from 9:30 am &#8211\; 11:30 am for our Open for Business sessio
 ns held at 920 Justison Street and meet with representatives from our 
 partner organizations. Collectively\, these organizations provide a ra
 nge of services that help start-ups advance their business model\, rea
 ch potential customers\, land government contracts\, secure loans\, me
 et state regulatory requirements and generally mentor entrepreneurs st
 riking out on their own for the first time. Join us for coffee and net
 work with potential partners and suppliers.</p>\n<p><strong>Admission:
 </strong> Free. Registration is suggested. Walk-ins welcome.</p>\n<p><
 a href=http://business.ncccc.com/events/details/new-castle-county-open
 -for-business-3871>Click here</a> for registration and information.</p
 >\n
URL:https://business.delaware.gov/events/new-castle-county-is-open-for
 -business/?lang=en
ATTACH:https://business.delaware.gov/events/new-castle-county-is-open-
 for-business/?lang=en
LOCATION:New Castle County Chamber of Commerce\, 920 Justison Street\,
  Wilmington
END:VEVENT
END:VCALENDAR
