BEGIN:VCALENDAR
VERSION:2.0
METHOD:PUBLISH
PRODID:-//hacksw/handcal//NONSGML v1.0//EN
BEGIN:VEVENT
DTSTAMP:20260424T035125Z
DTSTART:20200826T140000Z
DTEND:20200826T160000Z
UID:20200826T140000Z-20200826T160000Z-3852@business.delaware.gov
SUMMARY:Women's Business Center: Business Brunch Series: Become A Bran
 d With A Plan
DESCRIPTION:Are you suffering from identity crisis? Do you know who yo
 u are and whom your business attracts? In this interactive session lea
 rn how to get to the core of what a brand really is and what it takes 
 to build a successful one. It’s more than just a logo! Learning Object
 ives: 1. Learn the steps to building a brand 2. Learn how to define yo
 ur brand strategy 3. Create Your Brand Personality 4. Learn how to put
  it all together and integrate your brand!\nSpeaker(s): Tiffany Chalk\
 , Tiffany Chalk Events\nCo-Sponsor(s): The Women's Business Center\n\n
 Fee: $ 15.00\n\nClick here to register.
X-ALT-DESC;FMTTYPE=text/html:<p class=cdworkshoptextinfo>Are you suffe
 ring from identity crisis? Do you know who you are and whom your busin
 ess attracts? In this interactive session learn how to get to the core
  of what a brand really is and what it takes to build a successful one
 . It’s more than just a logo! Learning Objectives: 1. Learn the steps 
 to building a brand 2. Learn how to define your brand strategy 3. Crea
 te Your Brand Personality 4. Learn how to put it all together and inte
 grate your brand!</p>\n<p class=cdworkshoptextinfo>Speaker(s): Tiffany
  Chalk\, Tiffany Chalk Events</p>\n<p class=cdworkshoptextinfo>Co-Spon
 sor(s): The Women&#8217\;s Business Center</p>\n<p class=cdworkshoptex
 tinfo>\n<p>Fee: $ 15.00</p>\n<p><a href=https://wbc.trueaccesscapital.
 org/workshop.aspx?ekey=1400001>Click here</a> to register.</p>\n
URL:https://business.delaware.gov/events/womens-business-center-busine
 ss-brunch-series-become-a-brand-with-a-plan-2/?lang=en
ATTACH:https://business.delaware.gov/events/womens-business-center-bus
 iness-brunch-series-become-a-brand-with-a-plan-2/?lang=en
LOCATION:Fulton Bank\, 1013 Centre Road\, Suite 102\, Wilmington
END:VEVENT
END:VCALENDAR
