BEGIN:VCALENDAR
VERSION:2.0
METHOD:PUBLISH
PRODID:-//hacksw/handcal//NONSGML v1.0//EN
BEGIN:VEVENT
DTSTAMP:20260421T220151Z
DTSTART:20200716T123000Z
DTEND:20200716T200000Z
UID:20200716T123000Z-20200716T200000Z-3882@business.delaware.gov
SUMMARY:DEMEP webinar: Team Building for Performance
DESCRIPTION:Unleash the power of your teams. Understand how to build a
  productive team\, what makes teamwork productive\, how to appreciate 
 your team and understand the requirements for success.\n\nCost: $345\n
 \nClick here for registration
X-ALT-DESC;FMTTYPE=text/html:<p>Unleash the power of your teams. Under
 stand how to build a productive team\, what makes teamwork productive\
 , how to appreciate your team and understand the requirements for succ
 ess.</p>\n<p>Cost: $345</p>\n<p><a href=https://secure.acceptiva.com/?
 cst=PZZn3t>Click here</a> for registration</p>\n
URL:https://business.delaware.gov/events/demep-webinar-team-building-f
 or-performance/?lang=en
ATTACH:https://business.delaware.gov/events/demep-webinar-team-buildin
 g-for-performance/?lang=en
END:VEVENT
END:VCALENDAR
