BEGIN:VCALENDAR
VERSION:2.0
METHOD:PUBLISH
PRODID:-//hacksw/handcal//NONSGML v1.0//EN
BEGIN:VEVENT
DTSTAMP:20260424T011823Z
DTSTART:20200826T163000Z
DTEND:20200826T173000Z
UID:20200826T163000Z-20200826T173000Z-4095@business.delaware.gov
SUMMARY:DE Relief Grants ZOOM webinar (for New Castle County small bus
 inesses)
DESCRIPTION:Join Division of Small Business Director Damian DeStefano 
 for a ZOOM webinar for New Castle County small businesses and nonprofi
 ts.\n\nHe will discuss the new DE Relief Grants program and answer you
 r questions.\n\nUse this ZOOM address:\nhttps://us02web.zoom.us/j/8229
 8449612\n\nOr click this link\n\n \n\n \n\n \n\n 
X-ALT-DESC;FMTTYPE=text/html:<p>Join Division of Small Business Direct
 or Damian DeStefano for a ZOOM webinar for New Castle County small bus
 inesses and nonprofits.</p>\n<p>He will discuss the new DE Relief Gran
 ts program and answer your questions.</p>\n<p>Use this ZOOM address:<b
 r />\nhttps://us02web.zoom.us/j/82298449612</p>\n<p><a href=https://us
 02web.zoom.us/j/82298449612>Or click this link</a></p>\n<p>&nbsp\;</p>
 \n<p>&nbsp\;</p>\n<p>&nbsp\;</p>\n<p>&nbsp\;</p>\n
URL:https://business.delaware.gov/events/de-relief-grants-zoom-webinar
 -for-new-castle-county-small-businesses/?lang=en
ATTACH:https://business.delaware.gov/events/de-relief-grants-zoom-webi
 nar-for-new-castle-county-small-businesses/?lang=en
END:VEVENT
END:VCALENDAR
