BEGIN:VCALENDAR
VERSION:2.0
METHOD:PUBLISH
PRODID:-//hacksw/handcal//NONSGML v1.0//EN
BEGIN:VEVENT
DTSTAMP:20260424T022955Z
DTSTART:20200825T213000Z
DTEND:20200825T233000Z
UID:20200825T213000Z-20200825T233000Z-4108@business.delaware.gov
SUMMARY:Middletown Area Chamber networking mixer
DESCRIPTION:Join the Middletown Area Chamber of Commerce for a network
 ing mixer on Aug. 25 from 5:30 p.m. to 7:30 p.m. at Crooked Hammock Br
 ewery in Middletown.\n\nClick here for registration.
X-ALT-DESC;FMTTYPE=text/html:<p>Join the Middletown Area Chamber of Co
 mmerce for a networking mixer on Aug. 25 from 5:30 p.m. to 7:30 p.m. a
 t Crooked Hammock Brewery in Middletown.</p>\n<p><a href=https://middl
 etownareachamber.chambermaster.com/eventregistration/register/8904>Cli
 ck here</a> for registration.</p>\n
URL:https://business.delaware.gov/events/middletown-area-chamber-netwo
 rking-mixer/?lang=en
ATTACH:https://business.delaware.gov/events/middletown-area-chamber-ne
 tworking-mixer/?lang=en
LOCATION:Crooked Hammock Brewery\, 316 Auto Park Drive\, Middletown
END:VEVENT
END:VCALENDAR
