BEGIN:VCALENDAR
VERSION:2.0
METHOD:PUBLISH
PRODID:-//hacksw/handcal//NONSGML v1.0//EN
BEGIN:VEVENT
DTSTAMP:20260420T221357Z
DTSTART:20210308T140000Z
DTEND:20210308T150000Z
UID:20210308T140000Z-20210308T150000Z-4698@business.delaware.gov
SUMMARY:New Castle County Chamber Policy Makers Series with County Exe
 cutive Matt Meyer
DESCRIPTION:Join us at the next virtual installment of our Policy Make
 rs series\, featuring the New Castle County Executive\, Matt Meyer.  J
 oin us as he shares this perspective and vision on topics affecting De
 laware businesses today.\n\n$20 for  Chamber members\, $35 for non-mem
 bers\n\nClick here to register.
X-ALT-DESC;FMTTYPE=text/html:<p>Join us at the next virtual installmen
 t of our Policy Makers series\, featuring the New Castle County Execut
 ive\, Matt Meyer.  Join us as he shares this perspective and vision on
  topics affecting Delaware businesses today.</p>\n<p>$20 for  Chamber 
 members\, $35 for non-members</p>\n<p><a href=http://business.ncccc.co
 m/events/details/policy-makers-breakfast-with-new-castle-county-execut
 ive-matt-meyer-4545>Click here</a> to register.</p>\n
URL:https://business.delaware.gov/events/new-castle-county-chamber-pol
 icy-makers-series-with-county-executive-matt-meyer/?lang=en
ATTACH:https://business.delaware.gov/events/new-castle-county-chamber-
 policy-makers-series-with-county-executive-matt-meyer/?lang=en
END:VEVENT
END:VCALENDAR
