BEGIN:VCALENDAR
VERSION:2.0
METHOD:PUBLISH
PRODID:-//hacksw/handcal//NONSGML v1.0//EN
BEGIN:VEVENT
DTSTAMP:20210517T010552Z
DTSTART:20210416T160000Z
DTEND:20210416T170000Z
UID:20210416T160000Z-20210416T170000Z-4729@business.delaware.gov
SUMMARY:New Castle County Chamber Virtual Networking Lunch
DESCRIPTION:Event Description:\n\nJoin us for a Virtual Networking Lun
 ch!\n\nGet to know other members of the community while practicing saf
 e social distancing. We will utilize Zoom to make business connections
  and continue developing relationships.\n\nIn an effort to ensure ever
 yone has a chance to talk and connect\, we utilize separate Zoom rooms
  for more personalized networking! There is NO limit to the number of 
 people who can attend.\n\nEach attendee will have an opportunity to gi
 ve a short introduction and overview of their business.\n\nAfter the e
 vent\, contact information for all attendees will be shared for additi
 onal follow-up and outreach.\n\n\nFree\n\n\nClick here for registratio
 n.
X-ALT-DESC;FMTTYPE=text/html:<div class=pf-content><div class=mn-event
 -head>Event Description:</div>\n<div class=mn-event-content>\n<div cla
 ss=mn-raw mn-print-url>Join us for a Virtual Networking Lunch!</p>\n<p
 >Get to know other members of the community while practicing safe soci
 al distancing. We will utilize Zoom to make business connections and c
 ontinue developing relationships.</p>\n<p>In an effort to ensure every
 one has a chance to talk and connect\, we utilize separate Zoom rooms 
 for more personalized networking! <em><u>There is NO limit</u></em> to
  the number of people who can attend.</p>\n<p>Each attendee will have 
 an opportunity to give a short introduction and overview of their busi
 ness.</p>\n<p>After the event\, contact information for all attendees 
 will be shared for additional follow-up and outreach.</p>\n</div>\n<di
 v>Free</p>\n</div>\n<div><a href=http://business.ncccc.com/events/deta
 ils/virtual-networking-lunch-4451>Click here</a> for registration.</di
 v>\n</div>\n</div>
URL:https://business.delaware.gov/events/new-castle-county-chamber-vir
 tual-networking-lunch-32/
ATTACH:https://business.delaware.gov/events/new-castle-county-chamber-
 virtual-networking-lunch-32/
END:VEVENT
END:VCALENDAR
