BEGIN:VCALENDAR
VERSION:2.0
METHOD:PUBLISH
PRODID:-//hacksw/handcal//NONSGML v1.0//EN
BEGIN:VEVENT
DTSTAMP:20210516T232409Z
DTSTART:20210409T160000Z
DTEND:20210409T170000Z
UID:20210409T160000Z-20210409T170000Z-4732@business.delaware.gov
SUMMARY:New Castle County Chamber Virtual Speed Networking
DESCRIPTION:Meet more people one-on-one in a short amount of time at o
 ur virtual Speed Networking event!\n\nThis will be a one-on-one\, roun
 d robin style event. You will have a few minutes to converse with your
  partner before being paired up with the next individual.\n\nBecause o
 f the fast paced nature of this event\, take a look at these tips to h
 elp guarantee a successful experience.\n\nFree for members\, $10 for n
 on-members.\n\nClick here for registration.
X-ALT-DESC;FMTTYPE=text/html:<div class=pf-content><p>Meet more people
  one-on-one in a short amount of time at our virtual Speed Networking 
 event!</p>\n<p>This will be a one-on-one\, round robin style event. Yo
 u will have a few minutes to converse with your partner before being p
 aired up with the next individual.</p>\n<p>Because of the fast paced n
 ature of this event\, take a look at <a href=https://brandyourself.com
 /blog/product-tutorials/top-tips-for-efficient-speed-networking/ targe
 t=_blank rel=noopener>these tips</a> to help guarantee a successful ex
 perience.</p>\n<p>Free for members\, $10 for non-members.</p>\n<p><a h
 ref=http://business.ncccc.com/events/details/virtual-speed-networking-
 4450>Click here</a> for registration.</p>\n</div>
URL:https://business.delaware.gov/events/new-castle-county-chamber-vir
 tual-speed-networking-6/
ATTACH:https://business.delaware.gov/events/new-castle-county-chamber-
 virtual-speed-networking-6/
END:VEVENT
END:VCALENDAR
