BEGIN:VCALENDAR
VERSION:2.0
METHOD:PUBLISH
PRODID:-//hacksw/handcal//NONSGML v1.0//EN
BEGIN:VEVENT
DTSTAMP:20210517T010526Z
DTSTART:20210415T214500Z
DTEND:20210415T230000Z
UID:20210415T214500Z-20210415T230000Z-4749@business.delaware.gov
SUMMARY:Women's Business Center: Passport to Business Success Online B
 usiness Planning Information Session
DESCRIPTION:The WBC is providing a tour around the world of business. 
 Come in and see first-hand how you can create a plan at home\, work\, 
 or in school on YOUR time! Yes\, that means you can be in control of t
 he time it takes to create your business success plan. This user frien
 dly computer based program is geared to support you at your level and 
 enhance your knowledge of business. The program will prompt you along 
 the way...the answers you provide during and after the tutorials will 
 compile a business success plan.\n\n\nSpeaker(s): Sara Crawford- Jones
 \, WBC Director\nPlease be prompt and please keep in mind to check spa
 m for training information emails.\nFree\n\nClick here for registratio
 n.\n\n \n\n \n\n \n\n 
X-ALT-DESC;FMTTYPE=text/html:<div class=pf-content><div class=cdworksh
 opHTMLinfo>\n<p>The WBC is providing a tour around the world of busine
 ss. Come in and see first-hand how you can create a plan at home\, wor
 k\, or in school on YOUR time! Yes\, that means you can be in control 
 of the time it takes to create your business success plan. This user f
 riendly computer based program is geared to support you at your level 
 and enhance your knowledge of business. The program will prompt you al
 ong the way&#8230\;the answers you provide during and after the tutori
 als will compile a business success plan.</p>\n</div>\n<p class=cdwork
 shoptextinfo>Speaker(s): Sara Crawford- Jones\, WBC Director</p>\n<p c
 lass=cdworkshoptextinfo>Please be prompt and please keep in mind to ch
 eck spam for training information emails.</p>\n<p>Free</p>\n<p><a href
 =https://wbc.trueaccesscapital.org/workshop.aspx?ekey=1410006>Click he
 re</a> for registration.</p>\n<p>&nbsp\;</p>\n<p>&nbsp\;</p>\n<p>&nbsp
 \;</p>\n<p>&nbsp\;</p>\n</div>
URL:https://business.delaware.gov/events/womens-business-center-passpo
 rt-to-business-success-online-business-planning-information-session-2/
ATTACH:https://business.delaware.gov/events/womens-business-center-pas
 sport-to-business-success-online-business-planning-information-session
 -2/
END:VEVENT
END:VCALENDAR
