BEGIN:VCALENDAR
VERSION:2.0
METHOD:PUBLISH
PRODID:-//hacksw/handcal//NONSGML v1.0//EN
BEGIN:VEVENT
DTSTAMP:20210516T232417Z
DTSTART:20210413T160000Z
DTEND:20210413T173000Z
UID:20210413T160000Z-20210413T173000Z-4774@business.delaware.gov
SUMMARY:Delaware State Chamber 2021 Economic Outlook with Philly Fed C
 hairman Patrick Harker
DESCRIPTION:Patrick Harker\, president & chief executive officer of th
 e Federal Reserve Bank of Philadelphia (bio) will provide a regional e
 conomic outlook with a focus on Delaware’s economy. Harker will also t
 ake a deep dive on key industries\, including financial services\, agr
 icultural\, hospitality\, healthcare\, construction and incorporation 
 services.\n\nJoin us to learn where we were prior to the outbreak\, wh
 at the Fed is seeing in terms of impacts on these critical Delaware in
 dustries\, what the remainder of 2021 could look like and permanent in
 dustry changes we may see.\n\nFree\n\nClick here for registration.
X-ALT-DESC;FMTTYPE=text/html:<div class=pf-content><p>Patrick Harker\,
  president &amp\; chief executive officer of the Federal Reserve Bank 
 of Philadelphia (<strong><a href=https://www.philadelphiafed.org/about
 -the-fed/senior-executives/harker target=_blank rel=noopener>bio</a></
 strong>) will provide a regional economic outlook with a focus on Dela
 ware’s economy. Harker will also take a deep dive on key industries\, 
 including financial services\, agricultural\, hospitality\, healthcare
 \, construction and incorporation services.</p>\n<p>Join us to learn w
 here we were prior to the outbreak\, what the Fed is seeing in terms o
 f impacts on these critical Delaware industries\, what the remainder o
 f 2021 could look like and permanent industry changes we may see.</p>\
 n<p>Free</p>\n<p><a href=https://web.dscc.com/events/2021-Economic-Out
 look-with-Philly-Fed-President-Patrick-Harker-2653/details>Click here<
 /a> for registration.</p>\n</div>
URL:https://business.delaware.gov/events/delaware-state-chamber-2021-e
 conomic-outlook-with-philly-fed-chairman-patrick-harker/
ATTACH:https://business.delaware.gov/events/delaware-state-chamber-202
 1-economic-outlook-with-philly-fed-chairman-patrick-harker/
END:VEVENT
END:VCALENDAR
