BEGIN:VCALENDAR
VERSION:2.0
METHOD:PUBLISH
PRODID:-//hacksw/handcal//NONSGML v1.0//EN
BEGIN:VEVENT
DTSTAMP:20210517T010537Z
DTSTART:20210415T220000Z
DTEND:20210415T233000Z
UID:20210415T220000Z-20210415T233000Z-4777@business.delaware.gov
SUMMARY:Women's Business Center: Building a Sustainable Business Cultu
 re
DESCRIPTION:This 3-part series provides the steps and tools to help yo
 u build a sustainable culture for your company.\n\nSESSION 1- APRIL 15
 \, 2021\n\nBuilding a Company Culture\n\nGives you everything you need
  to create the perfect cultural structure for your company.\n\nIn the 
 session you will learn:\n\n• The Importance of Culture and signs it ma
 y be broken\n\n• Proven process to create core values\n\n• How to help
  create systems\, processes\, and procedures to help the leaders\n\nSE
 SSION 2- APRIL 22\, 2021\n\nHiring for the Perfect Fit\n\nHiring and e
 valuating the perfect employee to match your culture of excellence to 
 help ensure your company’s success.\n\n• How to source on LinkedIn\n\n
 • Review of job descriptions and marketing materials\n\n• Interview an
 d application techniques\n\nSESSION 3- APRIL 29\, 2021\n\nLeadership\n
 \nLeadership is a critical element of building and maintaining a stron
 g company culture.\n\nSession topics include:\n\n• Characteristics of 
 being a strong and effective leader\n\n• Techniques for effective lead
 ership\n\nPlease be sure to check your email for the Zoom Link for thi
 s training.\n\nFee: $50\n\nClick here for registration.
X-ALT-DESC;FMTTYPE=text/html:<div class=pf-content><p><em><strong>This
  3-part series provides the steps and tools to help you build a sustai
 nable culture for your company.</strong></em></p>\n<p>SESSION 1- APRIL
  15\, 2021</p>\n<p><strong>Building a Company Culture</strong></p>\n<p
 >Gives you everything you need to create the perfect cultural structur
 e for your company.</p>\n<p>In the session you will learn:</p>\n<p>• T
 he Importance of Culture and signs it may be broken</p>\n<p>• Proven p
 rocess to create core values</p>\n<p>• How to help create systems\, pr
 ocesses\, and procedures to help the leaders</p>\n<p>SESSION 2- APRIL 
 22\, 2021</p>\n<p><strong>Hiring for the Perfect Fit</strong></p>\n<p>
 Hiring and evaluating the perfect employee to match your culture of ex
 cellence to help ensure your company’s success.</p>\n<p>• How to sourc
 e on LinkedIn</p>\n<p>• Review of job descriptions and marketing mater
 ials</p>\n<p>• Interview and application techniques</p>\n<p>SESSION 3-
  APRIL 29\, 2021</p>\n<p><strong>Leadership</strong></p>\n<p>Leadershi
 p is a critical element of building and maintaining a strong company c
 ulture.</p>\n<p>Session topics include:</p>\n<p>• Characteristics of b
 eing a strong and effective leader</p>\n<p>• Techniques for effective 
 leadership</p>\n<p><strong>Please be sure to check your email for the 
 Zoom Link for this training.</strong></p>\n<p>Fee: $50</p>\n<p><a href
 =https://wbc.trueaccesscapital.org/workshop.aspx?ekey=1410031>Click he
 re</a> for registration.</p>\n</div>
URL:https://business.delaware.gov/events/womens-business-center-buildi
 ng-a-sustainable-business-culture/
ATTACH:https://business.delaware.gov/events/womens-business-center-bui
 lding-a-sustainable-business-culture/
END:VEVENT
END:VCALENDAR
