BEGIN:VCALENDAR
VERSION:2.0
METHOD:PUBLISH
PRODID:-//hacksw/handcal//NONSGML v1.0//EN
BEGIN:VEVENT
DTSTAMP:20210516T232400Z
DTSTART:20210408T223000Z
DTEND:20210409T003000Z
UID:20210408T223000Z-20210409T003000Z-4830@business.delaware.gov
SUMMARY:SCORE webinar: More Clients\, Less Marketing
DESCRIPTION:An engaging presentation that quickly shows audiences how 
 to get better results from their client-generation efforts while feeli
 ng more authentic and actually having fun! Mary Cravets is a Client Ge
 neration Expert and International Speaker\, who helps entrepreneurs si
 gnificantly grow their businesses without working nights and weekends.
 \n\nFree\n\nClick here for registration.
X-ALT-DESC;FMTTYPE=text/html:<div class=pf-content><p>An engaging pres
 entation that quickly shows audiences how to get better results from t
 heir client-generation efforts while feeling more authentic and actual
 ly having fun! Mary Cravets is a Client Generation Expert and Internat
 ional Speaker\, who helps entrepreneurs significantly grow their busin
 esses without working nights and weekends.</p>\n<p>Free</p>\n<p><a hre
 f=https://delaware.score.org/event/score-more-clients-less-marketing-z
 oom-webinar-04082021-630-830-pm>Click here</a> for registration.</p>\n
 </div>
URL:https://business.delaware.gov/events/score-webinar-more-clients-le
 ss-marketing/
ATTACH:https://business.delaware.gov/events/score-webinar-more-clients
 -less-marketing/
END:VEVENT
END:VCALENDAR
