BEGIN:VCALENDAR
VERSION:2.0
METHOD:PUBLISH
PRODID:-//hacksw/handcal//NONSGML v1.0//EN
BEGIN:VEVENT
DTSTAMP:20260425T183938Z
DTSTART:20210512T214500Z
DTEND:20210513T000000Z
UID:20210512T214500Z-20210513T000000Z-4849@business.delaware.gov
SUMMARY:Women's Business Center webinar: How to Start a Business
DESCRIPTION:This workshop is for current or future business owners to 
 learn how to open a business the right way. This session will provide 
 an overview of Starting a Business and give potential entrepreneurs an
  opportunity to get answers to their most pressing questions. Attendee
 s will leave with Knowledge of business basics such as business struct
 uring\, registering your business\, related licenses\, finances\, and 
 the principles of a business plan.\n\nFree\n\nClick here for registrat
 ion.
X-ALT-DESC;FMTTYPE=text/html:<p>This workshop is for current or future
  business owners to learn how to open a business the right way. This s
 ession will provide an overview of Starting a Business and give potent
 ial entrepreneurs an opportunity to get answers to their most pressing
  questions. Attendees will leave with Knowledge of business basics suc
 h as business structuring\, registering your business\, related licens
 es\, finances\, and the principles of a business plan.</p>\n<p>Free</p
 >\n<p><a href=https://wbc.trueaccesscapital.org/workshop.aspx?ekey=141
 0038>Click here</a> for registration.</p>\n
URL:https://business.delaware.gov/events/womens-business-center-webina
 r-how-to-start-a-business/?lang=en
ATTACH:https://business.delaware.gov/events/womens-business-center-web
 inar-how-to-start-a-business/?lang=en
END:VEVENT
END:VCALENDAR
