BEGIN:VCALENDAR
VERSION:2.0
METHOD:PUBLISH
PRODID:-//hacksw/handcal//NONSGML v1.0//EN
BEGIN:VEVENT
DTSTAMP:20260425T020440Z
DTSTART:20210428T040000Z
DTEND:20210429T035959Z
UID:20210428T040000Z-20210429T035959Z-4873@business.delaware.gov
SUMMARY:Emerging Enterprise Center: Build Your E-Commerce Site in Unde
 r 2 Hours
DESCRIPTION:Description\nFor small businesses today\, it is imperative
  to have an engaging digital presence and effective E-commerce capabil
 ity (online store). Join us for a hands-on\, virtual 2-hour workshop d
 esigned to get you started with your own E-commerce site.\n\nDuring th
 is webinar\, we will:\n\n 	Cover the ABCs of eCommerce.\n 	Discuss why
  you need an online store.\n 	Review what to look for in an effective 
 eCommerce platform.\n 	Share hints\, tips\, and tricks.\n 	Build a Sho
 pify site live!\n 	Answer questions.\n\nNote: This class is intended f
 or those who are looking to launch their own online store using the Sh
 opify platform. To gain the most out of this workshop\, you must be pr
 epared to pay $29 per month for Shopify hosting plus have funds to pur
 chase your domain and business email if you desire to launch this kind
  of business.\n\nTry Shopify free for 14 days\, no credit card require
 d.\n\nAbout Symbiosys Consulting\n\nSymbiosys Consulting is a Delaware
 -based technology consultancy providing solutions and resources to com
 panies and non-profits across multiple industries including science\, 
 energy\, healthcare\, automotive\, financial\, and manufacturing.\n\nF
 ree for New Castle County Chamber of Commerce members\, $25 for non-me
 mbers.\n\nClick here for registration.
X-ALT-DESC;FMTTYPE=text/html:<h3 class=gz-subtitle>Description</h3>\n<
 p>For small businesses today\, it is imperative to have an engaging di
 gital presence and effective E-commerce capability (online store). Joi
 n us for a hands-on\, virtual 2-hour workshop designed to get you star
 ted with your own E-commerce site.</p>\n<p>During this webinar\, we wi
 ll:</p>\n<ul>\n<li>Cover the ABCs of eCommerce.</li>\n<li>Discuss why 
 you need an online store.</li>\n<li>Review what to look for in an effe
 ctive eCommerce platform.</li>\n<li>Share hints\, tips\, and tricks.</
 li>\n<li><strong>Build a Shopify site live!</strong></li>\n<li>Answer 
 questions.</li>\n</ul>\n<p>Note: This class is intended for those who 
 are looking to launch their own online store using the Shopify platfor
 m. To gain the most out of this workshop\, you must be prepared to pay
  $29 per month for Shopify hosting plus have funds to purchase your do
 main and business email if you desire to launch this kind of business.
 </p>\n<p>Try <a href=https://www.shopify.com/business-association-nccc
 c?ref=new-castle-county-chamber-of-commerces-e>Shopify free for 14 day
 s</a>\, no credit card required.</p>\n<p><strong>About Symbiosys Consu
 lting</strong></p>\n<p><a href=https://symbiosysconsulting.com/>Symbio
 sys Consulting</a> is a Delaware-based technology consultancy providin
 g solutions and resources to companies and non-profits across multiple
  industries including science\, energy\, healthcare\, automotive\, fin
 ancial\, and manufacturing.</p>\n<p>Free for New Castle County Chamber
  of Commerce members\, $25 for non-members.</p>\n<p><a href=http://bus
 iness.ncccc.com/events/details/build-your-e-commerce-site-in-under-2-h
 ours-4672?calendarMonth=2021-04-01>Click here</a> for registration.</p
 >\n
URL:https://business.delaware.gov/events/emerging-enterprise-center-bu
 ild-your-e-commerce-site-in-under-2-hours/
ATTACH:https://business.delaware.gov/events/emerging-enterprise-center
 -build-your-e-commerce-site-in-under-2-hours/
END:VEVENT
END:VCALENDAR
