BEGIN:VCALENDAR
VERSION:2.0
METHOD:PUBLISH
PRODID:-//hacksw/handcal//NONSGML v1.0//EN
BEGIN:VEVENT
DTSTAMP:20210517T010505Z
DTSTART:20210415T140000Z
DTEND:20210415T150000Z
UID:20210415T140000Z-20210415T150000Z-4891@business.delaware.gov
SUMMARY:New Castle County Chamber Members Only Virtual Legislative For
 um
DESCRIPTION:Description\nThe General Assembly is in session. They are 
 meeting regularly and\, since January\, they have introduced more than
  250 pieces of legislation.\n\nIn any given legislative year\, there a
 re numerous bills and other policy proposals which have the potential 
 to impact how businesses operate and to directly impact their bottom l
 ine. That is where we come in.  A core part of the Chamber’s mission i
 s to advocate for our members at every level of government.\n\nSo far 
 in 2021\, policy makers have proposed personal income tax increases\, 
 paid family and medical leave\, recreational marijuana legalization\, 
 three minimum wage increase proposals\, and a potential mandate on emp
 loyers to provide payroll deductions for state managed IRA plans.  The
  list goes on.\n\nJoin us on April 15\, at 10:00 a.m. for a members-on
 ly forum where we will discuss these and other bills and take your que
 stions and your input.\n\nFree\n\nLink to participate will be sent the
  day before the event.
X-ALT-DESC;FMTTYPE=text/html:<div class=pf-content><h3 class=gz-subtit
 le>Description</h3>\n<p>The General Assembly is in session. They are m
 eeting regularly and\, since January\, they have introduced more than 
 250 pieces of legislation.</p>\n<p>In any given legislative year\, the
 re are numerous bills and other policy proposals which have the potent
 ial to impact how businesses operate and to directly impact their bott
 om line. <strong>That is where we come in. </strong> A core part of th
 e Chamber’s mission is to advocate for our members at every level of g
 overnment.</p>\n<p>So far in 2021\, policy makers have proposed <stron
 g>personal income tax increases\, paid family and medical leave\, recr
 eational marijuana legalization\, three minimum wage increase proposal
 s\, and a potential mandate on employers to provide payroll deductions
  for state managed IRA plans.</strong>  The list goes on.</p>\n<p>Join
  us on April 15\, at 10:00 a.m. for a <strong>members-only forum</stro
 ng> where we will discuss these and other bills and take your question
 s and your input.</p>\n<p>Free</p>\n<p>Link to participate will be sen
 t the day before the event.</p>\n</div>
URL:https://business.delaware.gov/events/new-castle-county-chamber-mem
 bers-only-virtual-legislative-forum/
ATTACH:https://business.delaware.gov/events/new-castle-county-chamber-
 members-only-virtual-legislative-forum/
END:VEVENT
END:VCALENDAR
