BEGIN:VCALENDAR
VERSION:2.0
METHOD:PUBLISH
PRODID:-//hacksw/handcal//NONSGML v1.0//EN
BEGIN:VEVENT
DTSTAMP:20210516T232504Z
DTSTART:20210414T143000Z
DTEND:20210414T160000Z
UID:20210414T143000Z-20210414T160000Z-4899@business.delaware.gov
SUMMARY:Small Business Development Center: SBIR 101
DESCRIPTION:In this webinar\, learn about non-dilutive funding opportu
 nities available via Small Business Innovation Research/Small Business
  Technology Transfer (SBIR/STTR) programs. Q&A to follow.\nLou Dinetta
  is considered a subject matter expert in all areas related to the SBI
 R/STTR program. He has been a principal investigator or a senior key p
 erson on grants and contracts with NIH\, DOD\, DOE\, NASA\, NSF\, EPA\
 , and USDA.\nSpeaker(s): Lou Dinetta\, SBDC Technology Manager\nFree\n
 \nClick here for registration and information.
X-ALT-DESC;FMTTYPE=text/html:<div class=pf-content><p class=cdworkshop
 textinfo>In this webinar\, learn about non-dilutive funding opportunit
 ies available via Small Business Innovation Research/Small Business Te
 chnology Transfer (SBIR/STTR) programs. Q&amp\;A to follow.</p>\n<p cl
 ass=cdworkshoptextinfo>Lou Dinetta is considered a subject matter expe
 rt in all areas related to the SBIR/STTR program. He has been a princi
 pal investigator or a senior key person on grants and contracts with N
 IH\, DOD\, DOE\, NASA\, NSF\, EPA\, and USDA.</p>\n<p class=cdworkshop
 textinfo>Speaker(s): Lou Dinetta\, SBDC Technology Manager</p>\n<p>Fre
 e</p>\n<p><a href=https://clients.delawaresbdc.org/workshop.aspx?ekey=
 10410012>Click here</a> for registration and information.</p>\n</div>
URL:https://business.delaware.gov/events/small-business-development-ce
 nter-sbir-101/
ATTACH:https://business.delaware.gov/events/small-business-development
 -center-sbir-101/
END:VEVENT
END:VCALENDAR
