BEGIN:VCALENDAR
VERSION:2.0
METHOD:PUBLISH
PRODID:-//hacksw/handcal//NONSGML v1.0//EN
BEGIN:VEVENT
DTSTAMP:20260425T150843Z
DTSTART:20210511T140000Z
DTEND:20210511T153000Z
UID:20210511T140000Z-20210511T153000Z-4915@business.delaware.gov
SUMMARY:New Castle County Chamber: Cutting Edge Series: Manufacturing
DESCRIPTION:Manufacturing Talent Pool – Building or Bringing Talent to
  Delaware\n\nPanel Discussion\, featuring:\nHasan Joarder\, BASF\nSant
 iago Rojas Carbonell\, Versogen\nPaul T. Morris\, Delaware Technical C
 ommunity College\nCharles A Madden\, Delaware Prosperity Partnership\n
 \n$25 for Chamber members\, $35 for non-members
X-ALT-DESC;FMTTYPE=text/html:<p>Manufacturing Talent Pool – Building o
 r Bringing Talent to Delaware</p>\n<p>Panel Discussion\, featuring:<br
  />\nHasan Joarder\, BASF<br />\nSantiago Rojas Carbonell\, Versogen<b
 r />\nPaul T. Morris\, Delaware Technical Community College<br />\nCha
 rles A Madden\, Delaware Prosperity Partnership</p>\n<p>$25 for Chambe
 r members\, $35 for non-members</p>\n
URL:https://business.delaware.gov/events/new-castle-county-chamber-cut
 ting-edge-series-manufacturing/?lang=en
ATTACH:https://business.delaware.gov/events/new-castle-county-chamber-
 cutting-edge-series-manufacturing/?lang=en
END:VEVENT
END:VCALENDAR
