BEGIN:VCALENDAR
VERSION:2.0
METHOD:PUBLISH
PRODID:-//hacksw/handcal//NONSGML v1.0//EN
BEGIN:VEVENT
DTSTAMP:20210517T010602Z
DTSTART:20210419T160000Z
DTEND:20210419T170000Z
UID:20210419T160000Z-20210419T170000Z-4942@business.delaware.gov
SUMMARY:DEMEP: Learn How the USMCA Could Impact Your Business
DESCRIPTION:April 19\, 2021\n12:00 p.m. – 1:00 p.m. – Cost: Complement
 ary\nWebinar – a Zoom link will be provided after registration\n\nUSMC
 A is mutually beneficial for North American workers\, farmers\, ranche
 rs\, and businesses.  The new agreement\, which entered into force on 
 July 1\, 2020\, will create a more balanced environment for trade\, su
 pport high-paying jobs for Americans and grow the North American econo
 my. \n\nThe USMCA resulted in some significant updates to the existing
  NAFTA\, improving market access for manufacturing and agricultural ex
 ports\, as well as the inclusion of important new provisions in areas 
 like digital trade and good regulatory practices.  \n\nJoin DEMEP and 
 U.S Commercial Service to learn how the updates to the USMCA could imp
 act your business. \n\nFree\n\nClick here for registration. \n\n 
X-ALT-DESC;FMTTYPE=text/html:<div class=pf-content><p>April 19\, 2021<
 /p>\n<p align=center>12:00 p.m. – 1:00 p.m. – Cost: Complementary</p>\
 n<p>Webinar – a Zoom link will be provided after registration</p>\n<p>
 <span style=font-family: Arial\,sans-serif>USMCA is mutually beneficia
 l for North American workers\, farmers\, ranchers\, and businesses.  T
 he new agreement\, which entered into force on July 1\, 2020\, will cr
 eate a more balanced environment for trade\, support high-paying jobs 
 for Americans and grow the North American economy. </span></p>\n<p><sp
 an style=font-family: Arial\,sans-serif>The USMCA resulted in some sig
 nificant updates to the existing NAFTA\, improving market access for m
 anufacturing and agricultural exports\, as well as the inclusion of im
 portant new provisions in areas like digital trade and good regulatory
  practices.  </span></p>\n<p><span style=font-family: Arial\,sans-seri
 f>Join DEMEP and U.S Commercial Service to learn how the updates to th
 e USMCA could impact your business. </span></p>\n<p><span style=font-f
 amily: Arial\,sans-serif>Free</span></p>\n<p><span style=font-family: 
 Arial\,sans-serif><a href=https://secure.acceptiva.com/?cst=90bae6>Cli
 ck here</a> for registration. </span></p>\n<p>&nbsp\;</p>\n</div>
URL:https://business.delaware.gov/events/demep-learn-how-the-usmca-cou
 ld-impact-your-business/
ATTACH:https://business.delaware.gov/events/demep-learn-how-the-usmca-
 could-impact-your-business/
END:VEVENT
END:VCALENDAR
