BEGIN:VCALENDAR
VERSION:2.0
METHOD:PUBLISH
PRODID:-//hacksw/handcal//NONSGML v1.0//EN
BEGIN:VEVENT
DTSTAMP:20210516T232453Z
DTSTART:20210414T140000Z
DTEND:20210414T150000Z
UID:20210414T140000Z-20210414T150000Z-4944@business.delaware.gov
SUMMARY:U.S. Commercial Service: The Logistics of Food: Getting Your E
 xport to Global Markets
DESCRIPTION:Join us on Wednesday\, April 14th for a moderated panel di
 scussion with logistics experts specializing in exporting food cargo.\
 n\n\n\n\n\nAbout this Event\n\n\n\nPresented by PhilaPort & U.S. Comme
 rcial Service\, this Food Export Logistics Panel will provide you with
  an overview of the food export supply chain from food cargo experts.\
 n\nFree\n\nClick here for registration and information.
X-ALT-DESC;FMTTYPE=text/html:<div class=pf-content><div class=g-group 
 l-lg-mar-bot-6 l-md-mar-bot-4  >\n<div class=g-cell g-cell-10-12 g-cel
 l-md-1-1>\n<div class=has-user-generated-content>\n<div class=text-bod
 y-medium data-automation=listing-event-description><strong>Join us on 
 Wednesday\, April 14th for a moderated panel discussion with logistics
  experts specializing in exporting food cargo.</strong></div>\n</div>\
 n</div>\n</div>\n<div class=g-group l-mar-bot-6 l-sm-mar-bot-4>\n<div 
 class=structured-content g-cell g-cell-10-12 g-cell-md-1-1>\n<h2 class
 =text-body-large hide-small>About this Event</h2>\n<div class=has-user
 -generated-content data-automation=about-this-event-sc>\n<div class=st
 ructured-content-rich-text structured-content__module l-align-left l-m
 ar-vert-6 l-sm-mar-vert-4 text-body-medium>\n<p>Presented by <a href=h
 ttps://www.philaport.com/ target=_blank rel=nofollow noopener noreferr
 er>PhilaPort</a> &amp\; <a href=https://www.trade.gov/ target=_blank r
 el=nofollow noopener noreferrer>U.S. Commercial Service</a>\, this Foo
 d Export Logistics Panel will provide you with an overview of the food
  export supply chain from food cargo experts.</p>\n<p>Free</p>\n<p><a 
 href=https://www.eventbrite.com/e/the-logistics-of-food-getting-your-e
 xports-to-global-markets-tickets-145125473197>Click here</a> for regis
 tration and information.</p>\n</div>\n</div>\n</div>\n</div>\n</div>
URL:https://business.delaware.gov/events/u-s-commercial-service-the-lo
 gistics-of-food-getting-your-export-to-global-markets/
ATTACH:https://business.delaware.gov/events/u-s-commercial-service-the
 -logistics-of-food-getting-your-export-to-global-markets/
END:VEVENT
END:VCALENDAR
