BEGIN:VCALENDAR
VERSION:2.0
METHOD:PUBLISH
PRODID:-//hacksw/handcal//NONSGML v1.0//EN
BEGIN:VEVENT
DTSTAMP:20210516T232439Z
DTSTART:20210414T120000Z
DTEND:20210414T130000Z
UID:20210414T120000Z-20210414T130000Z-4953@business.delaware.gov
SUMMARY:Central Delaware Chamber: Coffee Coaching
DESCRIPTION:This Coffee Coaching series is designed to assist Central 
 Delaware businesses as they re-open and re-launch.\n\nThe five session
 s planned will cover serveral strategies for re-building successful bu
 sinesses.\n\nThe goal of the series is to assist business owners as th
 ey get back up and running\, and growing\, in the months to come.\n\nF
 ree for Chamber members. This event will be held on Zoom and at the Ch
 amber office.\n\nClick here for registration and information.
X-ALT-DESC;FMTTYPE=text/html:<div class=pf-content><p>This Coffee Coac
 hing series is designed to assist Central Delaware businesses as they 
 re-open and re-launch.</p>\n<p>The five sessions planned will cover se
 rveral strategies for re-building successful businesses.</p>\n<p>The g
 oal of the series is to assist business owners as they get back up and
  running\, and growing\, in the months to come.</p>\n<p>Free for Chamb
 er members. This event will be held on Zoom and at the Chamber office.
 </p>\n<p><a href=https://cca.cdcc.net/EvtListing.aspx?dbid2=DECDEL&amp
 \;evtid=201230&amp\;class=B>Click here</a> for registration and inform
 ation.</p>\n</div>
URL:https://business.delaware.gov/events/central-delaware-chamber-coff
 ee-coaching/
ATTACH:https://business.delaware.gov/events/central-delaware-chamber-c
 offee-coaching/
LOCATION:Central Delaware Chamber of Commerce\, 435 N. DuPont Highway\
 , Dover
END:VEVENT
END:VCALENDAR
