BEGIN:VCALENDAR
VERSION:2.0
METHOD:PUBLISH
PRODID:-//hacksw/handcal//NONSGML v1.0//EN
BEGIN:VEVENT
DTSTAMP:20210517T010516Z
DTSTART:20210415T160000Z
DTEND:20210415T170000Z
UID:20210415T160000Z-20210415T170000Z-4962@business.delaware.gov
SUMMARY:Pete du Pont Foundation E3 Lunch and Learn: EDGE Grants
DESCRIPTION:Meet Jordan Schulties\, Director of Delaware's Division of
  Small Business\, as we discuss and answer questions about the Encoura
 ging Development\, Growth & Expansion (EDGE) Grant. The EDGE Grant pro
 gram gives qualified Delaware small businesses an opportunity to acces
 s significant capital. Join us to learn more!\n\nFree\n\nClick here fo
 r registration and information.
X-ALT-DESC;FMTTYPE=text/html:<div class=pf-content><p>Meet Jordan Schu
 lties\, Director of Delaware&#8217\;s Division of Small Business\, as 
 we discuss and answer questions about the Encouraging Development\, Gr
 owth &amp\; Expansion (EDGE) Grant. The EDGE Grant program gives quali
 fied Delaware small businesses an opportunity to access significant ca
 pital. Join us to learn more!</p>\n<p>Free</p>\n<p><a href=https://zoo
 m.us/webinar/register/3016177247578/WN_iYTc1rSHSouuZvIGRwPftg>Click he
 re</a> for registration and information.</p>\n</div>
URL:https://business.delaware.gov/events/pete-du-pont-foundation-e3-lu
 nch-and-learn-edge-grants/
ATTACH:https://business.delaware.gov/events/pete-du-pont-foundation-e3
 -lunch-and-learn-edge-grants/
END:VEVENT
END:VCALENDAR
