BEGIN:VCALENDAR
VERSION:2.0
METHOD:PUBLISH
PRODID:-//hacksw/handcal//NONSGML v1.0//EN
BEGIN:VEVENT
DTSTAMP:20210621T230811Z
DTSTART:20210422T140000Z
DTEND:20210422T150000Z
UID:20210422T140000Z-20210422T150000Z-4977@business.delaware.gov
SUMMARY:New Castle County Chamber: Facebook Live: Future of Work\, Eff
 ectively Leading Remote Teams
DESCRIPTION:The McKinsey Global Institute recently came out with an an
 alysis on how the COVID-19 pandemic has set into motion a structural s
 hift in where work takes place. As part of the analysis\, they found t
 hat executives anticipate operating their businesses with a hybrid mod
 el with employees working remotely and from an office.\n\nJoin us on A
 pril 22 at 10 a.m. as we speak with B+H Insurance (BHI) Director of Hu
 man Resources\, Maria​ Clyde\, PHR\, SHRM‑SCP about how to maintain a 
 highly productive remote working environment while maintaining a stron
 g company culture\, and communication.\n\nAbout Speaker\nMaria N. Clyd
 e\, a certified Professional in Human Resources (PHR) and Society of H
 uman Resources (SHRM) Senior Certified Professional (SCP)\, has almost
  ten years of human resources consulting experience\, and joined B+H I
 nsurance\, LLC in late 2016. Maria handles human resources for the age
 ncy and assists clients with their in-house HR needs. This includes re
 views and assessments of current policies\, employee handbooks\, job d
 escriptions\, compensation structures\, compliance requirements\, bene
 fits packages\, company marketing and other HR or corporate developmen
 t needs. As an active member of the Delaware Society of Human Resource
 s Management (SHRM)\, Maria focuses on professional development and st
 ays up-to-date with changing legislation affecting HR management. Befo
 re joining BHI\, Maria worked for a mid-size government contractor in 
 Washington\, DC that serviced the Federal Aviation Administration as w
 ell as various Department of Defense agencies.
X-ALT-DESC;FMTTYPE=text/html:<div class=pf-content><p>The McKinsey Glo
 bal Institute recently came out with an analysis on how the COVID-19 p
 andemic has set into motion a structural shift in where work takes pla
 ce. As part of the analysis\, they found that executives anticipate op
 erating their businesses with a hybrid model with employees working re
 motely and from an office.</p>\n<p>Join us on April 22 at 10 a.m. as w
 e speak with B+H Insurance (BHI) Director of Human Resources\, Maria​ 
 Clyde\, PHR\, SHRM‑SCP about how to maintain a highly productive remot
 e working environment while maintaining a strong company culture\, and
  communication.</p>\n<p><strong>About Speaker</strong><br />\nMaria N.
  Clyde\, a certified Professional in Human Resources (PHR) and Society
  of Human Resources (SHRM) Senior Certified Professional (SCP)\, has a
 lmost ten years of human resources consulting experience\, and joined 
 B+H Insurance\, LLC in late 2016. Maria handles human resources for th
 e agency and assists clients with their in-house HR needs. This includ
 es reviews and assessments of current policies\, employee handbooks\, 
 job descriptions\, compensation structures\, compliance requirements\,
  benefits packages\, company marketing and other HR or corporate devel
 opment needs. As an active member of the Delaware Society of Human Res
 ources Management (SHRM)\, Maria focuses on professional development a
 nd stays up-to-date with changing legislation affecting HR management.
  Before joining BHI\, Maria worked for a mid-size government contracto
 r in Washington\, DC that serviced the Federal Aviation Administration
  as well as various Department of Defense agencies.</p>\n</div>
URL:https://business.delaware.gov/events/new-castle-county-chamber-fac
 ebook-live-future-of-work-effectively-leading-remote-teams/
ATTACH:https://business.delaware.gov/events/new-castle-county-chamber-
 facebook-live-future-of-work-effectively-leading-remote-teams/
END:VEVENT
END:VCALENDAR
