BEGIN:VCALENDAR
VERSION:2.0
METHOD:PUBLISH
PRODID:-//hacksw/handcal//NONSGML v1.0//EN
BEGIN:VEVENT
DTSTAMP:20260425T020441Z
DTSTART:20210429T160000Z
DTEND:20210429T170000Z
UID:20210429T160000Z-20210429T170000Z-4987@business.delaware.gov
SUMMARY:Small Business Development Center: Employee Retention Tax Cred
 it webinar
DESCRIPTION:Description\n\n\n\n\n\n\n\nApply for the SBDC's Tax Credit
  Support Program & Claim your Employee Retention Tax Credit.\nIf you a
 re a small business with 10-50 employees\, the Delaware SBDC has speci
 al resources to help you.\n\nWhat is our program?\n\n 	Understand the 
 benefits of the federal Employee Retention Tax Credit\n 	Explore feder
 al program eligibility requirements\n 	Work with our tax specialist an
 d save up to 80% of the cost to prepare your filing (limited to 25 sel
 ected businesses)\n 	25 businesses will be awarded a customized tax cr
 edit filing service valued at up-to $9\,000 each\n 	Compared to a cont
 ingent provider that may charge 10% or more of your total tax credit\,
  our program offers support for tax credit preparation based on a subs
 idized\, sliding scale fixed rate (capped at $1\,800)\n\nWHO SHOULD AP
 PLY?\nAny for profit employer with 10-50 employees that experienced si
 gnificant reduction in gross receipts or full or partial suspension in
  operations with a more than nominal impact.\n\nThe ERTC program can m
 ean a tax credit for your business of up to $5\,000 per employee (year
  2020) and up to $7\,000 per employee (per quarter 2021).\n\nLUNCH & L
 EARN ERTC WEBINAR\nJoin us for a Lunch & Learn to hear more about the 
 Employee Retention Tax Credit. This webinar is open to small businesse
 s to help you understand federal eligibility guidelines and how the ta
 x credit can work for you.\n\nThursday\, April 29th\, 12 Noon – 1 PM\n
 \nClick here to register.\nFor more information\, email: Delaware-SBDC
 @udel.edu
X-ALT-DESC;FMTTYPE=text/html:<div class=row gz-details-links>\n<div cl
 ass=col-sm-7 col-md-8 order-sm-first>\n<div class=row gz-event-facts>\
 n<div class=col-sm-12 gz-event-location></div>\n</div>\n</div>\n<div c
 lass=col-sm-5 col-md-4 order-sm-last>\n<div id=reminderAccordian class
 =accordion d-none d-sm-block>\n<div class=card gz-event-reminder>\n<h5
  class=card-header><span style=font-size: 16px>Description</span></h5>
 \n</div>\n</div>\n</div>\n</div>\n<div class=row gz-event-description>
 \n<div class=col>\n<p>Apply for the SBDC&#8217\;s Tax Credit Support P
 rogram &amp\; Claim your Employee Retention Tax Credit.<br />\nIf you 
 are a small business with 10-50 employees\, the Delaware SBDC has spec
 ial resources to help you.</p>\n<p>What is our program?</p>\n<ol>\n<li
 >Understand the benefits of the federal Employee Retention Tax Credit<
 /li>\n<li>Explore federal program eligibility requirements</li>\n<li>W
 ork with our tax specialist and save up to 80% of the cost to prepare 
 your filing (limited to 25 selected businesses)</li>\n<li>25 businesse
 s will be awarded a customized tax credit filing service valued at up-
 to $9\,000 each</li>\n<li>Compared to a contingent provider that may c
 harge 10% or more of your total tax credit\, our program offers suppor
 t for tax credit preparation based on a subsidized\, sliding scale fix
 ed rate (capped at $1\,800)</li>\n</ol>\n<p>WHO SHOULD APPLY?<br />\nA
 ny for profit employer with 10-50 employees that experienced significa
 nt reduction in gross receipts or full or partial suspension in operat
 ions with a more than nominal impact.</p>\n<p>The ERTC program can mea
 n a tax credit for your business of up to $5\,000 per employee (year 2
 020) and up to $7\,000 per employee (per quarter 2021).</p>\n<p>LUNCH 
 &amp\; LEARN ERTC WEBINAR<br />\nJoin us for a Lunch &amp\; Learn to h
 ear more about the Employee Retention Tax Credit. This webinar is open
  to small businesses to help you understand federal eligibility guidel
 ines and how the tax credit can work for you.</p>\n<p>Thursday\, April
  29th\, 12 Noon – 1 PM</p>\n<p><a href=https://clients.delawaresbdc.or
 g/workshop.aspx?ekey=10410013>Click here</a> to register.<br />\nFor m
 ore information\, email: Delaware-SBDC@udel.edu</p>\n</div>\n</div>\n
URL:https://business.delaware.gov/events/new-castle-county-chamber-emp
 loyee-retention-tax-credit-lunch-learn/
ATTACH:https://business.delaware.gov/events/new-castle-county-chamber-
 employee-retention-tax-credit-lunch-learn/
END:VEVENT
END:VCALENDAR
