BEGIN:VCALENDAR
VERSION:2.0
METHOD:PUBLISH
PRODID:-//hacksw/handcal//NONSGML v1.0//EN
BEGIN:VEVENT
DTSTAMP:20210622T052932Z
DTSTART:20210429T140000Z
DTEND:20210429T153000Z
UID:20210429T140000Z-20210429T153000Z-4992@business.delaware.gov
SUMMARY:SBA Delaware webinar on Restaurant Revitalization Fund
DESCRIPTION:SBA Delaware will provide a webinar detailing The Restaura
 nt Revitalization Fund (RRF). The webinar will detail RRF eligibility 
 and funding\, as well as how to apply for RRF funds.\n\n\nThe American
  Rescue Plan Act established the Restaurant Revitalization Fund to pro
 vide funding to help restaurants and other eligible businesses keep th
 eir doors open. This program will provide restaurants with funding equ
 al to their pandemic-related revenue loss up to $10 million per busine
 ss and no more than $5 million per physical location. Recipients are n
 ot required to repay the funding as long as funds are used for eligibl
 e uses no later than March 11\, 2023.\n\nFee: No cost\n\n\nClick here 
 for registration.\n\n \n\n 
X-ALT-DESC;FMTTYPE=text/html:<div class=pf-content><p>SBA Delaware wil
 l provide a webinar detailing The Restaurant Revitalization Fund (&#82
 20\;RRF&#8221\;). The webinar will detail RRF eligibility and funding\
 , as well as how to apply for RRF funds.</p>\n<div class=cdworkshopHTM
 Linfo>\n<p>The American Rescue Plan Act established the Restaurant Rev
 italization Fund to provide funding to help restaurants and other elig
 ible businesses keep their doors open. This program will provide resta
 urants with funding equal to their pandemic-related revenue loss up to
  $10 million per business and no more than $5 million per physical loc
 ation. Recipients are not required to repay the funding as long as fun
 ds are used for eligible uses no later than March 11\, 2023.</p>\n<p>F
 ee: No cost</p>\n</div>\n<p><a href=https://wbc.trueaccesscapital.org/
 workshop.aspx?ekey=1410078>Click here</a> for registration.</p>\n<p>&n
 bsp\;</p>\n<p>&nbsp\;</p>\n<div></div>\n</div>
URL:https://business.delaware.gov/events/sba-delaware-webinar-on-resta
 urant-revitalization-fund/
ATTACH:https://business.delaware.gov/events/sba-delaware-webinar-on-re
 staurant-revitalization-fund/
END:VEVENT
END:VCALENDAR
