BEGIN:VCALENDAR
VERSION:2.0
METHOD:PUBLISH
PRODID:-//hacksw/handcal//NONSGML v1.0//EN
BEGIN:VEVENT
DTSTAMP:20210622T052913Z
DTSTART:20210428T133000Z
DTEND:20210428T150000Z
UID:20210428T133000Z-20210428T150000Z-4995@business.delaware.gov
SUMMARY:University of Delaware: Technology Transfer Process for Patent
 s and Start-ups
DESCRIPTION:TECHNOLOGY TRANSFER PROCESSES FOR\nPATENTS & STARTUPS\n\nJ
 oin UD’s Commercialization Committee for a webinar to:\n\n\n 	gain ins
 ight into UD’s Technology Transfer process\n 	understand United States
  Patent & Trademark Office standards and criteria and how decisions ar
 e made\n 	learn about UD resources available for Faculty & Entrepreneu
 rs – including programs and services offered by OEIP\, Horn Entreprene
 urship\, Delaware Small Business Development Center & DRIVE\n\nClick h
 ere for registration.
X-ALT-DESC;FMTTYPE=text/html:<div class=pf-content><div>TECHNOLOGY TRA
 NSFER PROCESSES FOR</div>\n<div>PATENTS &amp\; STARTUPS</div>\n<div al
 ign=left></div>\n<div>Join UD’s Commercialization Committee for a webi
 nar to:</div>\n<div></div>\n<ul>\n<li>gain insight into UD’s Technolog
 y Transfer process</li>\n<li>understand United States Patent &amp\; Tr
 ademark Office standards and criteria and how decisions are made</li>\
 n<li>learn about UD resources available for Faculty &amp\; Entrepreneu
 rs – including programs and services offered by OEIP\, Horn Entreprene
 urship\, Delaware Small Business Development Center &amp\; DRIVE</li>\
 n</ul>\n<p><a href=https://udel.zoom.us/webinar/register/WN_TWHKbASeSo
 mQwQF9Y6RZQg>Click here</a> for registration.</p>\n</div>
URL:https://business.delaware.gov/events/university-of-delaware-techno
 logy-transfer-process-for-patents-and-start-ups/
ATTACH:https://business.delaware.gov/events/university-of-delaware-tec
 hnology-transfer-process-for-patents-and-start-ups/
END:VEVENT
END:VCALENDAR
