BEGIN:VCALENDAR
VERSION:2.0
METHOD:PUBLISH
PRODID:-//hacksw/handcal//NONSGML v1.0//EN
BEGIN:VEVENT
DTSTAMP:20260425T034021Z
DTSTART:20210503T160000Z
DTEND:20210503T170000Z
UID:20210503T160000Z-20210503T170000Z-5028@business.delaware.gov
SUMMARY:Small Business Week Webinar - Equity Crowdfunding
DESCRIPTION:Ever heard of crowd investing? It could be a great option 
 for starting or growing your small business. Learn what it is and how 
 to do it from an expert at the crowd investing platform WeFunder durin
 g a free Delaware Division of Small Business webinar May 3 at 12 p.m.\
 n \nJoin here --> http://ow.ly/RxGa50ExUNU (no registration required)
X-ALT-DESC;FMTTYPE=text/html:<div dir=auto>Ever heard of crowd investi
 ng? It could be a great option for starting or growing your small busi
 ness. Learn what it is and how to do it from an expert at the crowd in
 vesting platform WeFunder during a free Delaware Division of Small Bus
 iness webinar May 3 at 12 p.m.</div>\n<div dir=auto>&nbsp\;</div>\n<di
 v dir=auto>Join here &#8211\;&gt\; <a class=oajrlxb2 g5ia77u1 qu0x051f
  esr5mh6w e9989ue4 r7d6kgcz rq0escxv nhd2j8a9 nc684nl6 p7hjln8o kvgmc6
 g5 cxmmr5t8 oygrvhab hcukyx3x jb3vyjys rz4wbd8a qt6c0cv9 a8nywdso i1ao
 9s8h esuyzwwr f1sip0of lzcic4wl py34i1dx gpro0wi8 role=link href=http:
 //ow.ly/RxGa50ExUNU?fbclid=IwAR3hPHLpIFLrcTtI-dir_VxioyiYNF7bDep_1W5mN
 Ub28c4hngmUNC1fl6Q target=_blank rel=nofollow noopener>http://ow.ly/Rx
 Ga50ExUNU</a> (no registration required)</div>\n
URL:https://business.delaware.gov/events/small-business-week-webinar-e
 quity-crowdfunding-2/
ATTACH:https://business.delaware.gov/events/small-business-week-webina
 r-equity-crowdfunding-2/
END:VEVENT
END:VCALENDAR
