BEGIN:VCALENDAR
VERSION:2.0
METHOD:PUBLISH
PRODID:-//hacksw/handcal//NONSGML v1.0//EN
BEGIN:VEVENT
DTSTAMP:20260425T034625Z
DTSTART:20210511T214500Z
DTEND:20210511T233000Z
UID:20210511T214500Z-20210511T233000Z-5061@business.delaware.gov
SUMMARY:H.E.R. Helping Entrepreneurs Rise Business Plan Competition
DESCRIPTION:Women are in the forefront of Entrepreneurship with approx
 imately 58% of businesses being women owned. The Womens Business Cente
 r at True Access Capital strives to assist in the growth of small busi
 nesses and women entrepreneurship. The H.E.R Business Plan Competition
  main purpose is to help improve and grow sustainable businesses throu
 gh the development of a strong\, functional business.\n\nJoin us for a
 n in depth information session about the competition including:\n .	El
 igibility requirements \n\n .	Application process\n\n .	Resources to a
 ssist in the competition\n\nFee: No Cost\n\nRegistration - Link
X-ALT-DESC;FMTTYPE=text/html:<p>Women are in the forefront of Entrepre
 neurship with approximately 58% of businesses being women owned. The W
 omens Business Center at True Access Capital strives to assist in the 
 growth of small businesses and women entrepreneurship. The H.E.R Busin
 ess Plan Competition main purpose is to help improve and grow sustaina
 ble businesses through the development of a strong\, functional busine
 ss.</p>\n<p>Join us for an in depth information session about the comp
 etition including:</p>\n<pre> .	Eligibility requirements <br />\n<br /
 >\n .	Application process<br />\n<br />\n .	Resources to assist in the
  competition\n</pre>\n<p>Fee: No Cost</p>\n<p>Registration &#8211\; <a
  title=Original URL: https://wbc.trueaccesscapital.org/workshop.aspx?e
 key=1410083. Click or tap if you trust this link. href=https://gcc02.s
 afelinks.protection.outlook.com/?url=https%3A%2F%2Fwbc.trueaccesscapit
 al.org%2Fworkshop.aspx%3Fekey%3D1410083&amp\;data=04%7C01%7CMichael.Ch
 esney%40delaware.gov%7C56d66db9d3c34b67de8508d90fdfc87c%7C8c09e56951c5
 4deeabb28b99c32a4396%7C0%7C0%7C637558277330921396%7CUnknown%7CTWFpbGZs
 b3d8eyJWIjoiMC4wLjAwMDAiLCJQIjoiV2luMzIiLCJBTiI6Ik1haWwiLCJXVCI6Mn0%3D
 %7C3000&amp\;sdata=uL17yEXswH2fpqdjyaesfIIKIImxb07gujyxnAtnot0%3D&amp\
 ;reserved=0 target=_blank rel=noopener noreferrer data-auth=Verified d
 ata-linkindex=4>Link</a></p>\n
URL:https://business.delaware.gov/events/h-e-r-helping-entrepreneurs-r
 ise-business-plan-competition/
ATTACH:https://business.delaware.gov/events/h-e-r-helping-entrepreneur
 s-rise-business-plan-competition/
LOCATION:The Community Service Building\, 100 W 10th St\, Wilmington
END:VEVENT
END:VCALENDAR
