BEGIN:VCALENDAR
VERSION:2.0
METHOD:PUBLISH
PRODID:-//hacksw/handcal//NONSGML v1.0//EN
BEGIN:VEVENT
DTSTAMP:20260423T082616Z
DTSTART:20210621T140000Z
DTEND:20210621T170000Z
UID:20210621T140000Z-20210621T170000Z-5090@business.delaware.gov
SUMMARY:Foreign Trade Zone seminar
DESCRIPTION:Delaware Department of State serves as Delaware’s Foreign 
 Trade Zone (FTZ)  Grantee for Foreign Trade Zone #99 within the State 
 of Delaware.\nDay to day Grantee Administration is handled through Div
 ision of Small Business. Together\, we invite you to join us\, along w
 ith a regional FTZ consulting firm to learn how we can work together t
 o possibly defer\, reduce and in some situations eliminate Tariffs/Dut
 ies that may be imposed on your business or your client's business. Go
 ods and materials that are imported into the US from foreign countries
  are often subject to tariffs/duties payable upon entrance into US Com
 merce.\n\nThe FTZ Consulting Firm that will be presenting this educati
 onal session is\n\n\n\nICSM  https://iscm.co/\n\nSean Lydon & Melissa 
 Irmen will be sharing real-life practical examples of how the program 
 works.\n\nPre-Registration is REQUIRED.\n\nSeating is limited to 50 at
 tendees and we will be providing boxed lunches with bottled water. No 
 alcoholic beverages are permitted. You may bring alternative food/drin
 k options with you\; however\, the Park will require you to carry out 
 your trash when you leave.\n\nThe event will be held in Cape Henlopen 
 State Park at the large pavilion.\n\nThere IS a fee to enter the Park.
  However\, there is NOT a fee to attend the educational session.\nTo R
 egister\, please send the following information to patricia.cannon@del
 aware.gov with FTZ Event in the Subject line.\n\nName:\nTitle:\nOrgani
 zation:\nTelephone #:
X-ALT-DESC;FMTTYPE=text/html:<div dir=auto>Delaware Department of Stat
 e serves as Delaware’s Foreign Trade Zone (FTZ)  Grantee for Foreign T
 rade Zone #99 within the State of Delaware.</div>\n<div dir=auto>Day t
 o day Grantee Administration is handled through Division of Small Busi
 ness. Together\, we invite you to join us\, along with a regional FTZ 
 consulting firm to learn how we can work together to possibly defer\, 
 reduce and in some situations eliminate Tariffs/Duties that may be imp
 osed on your business or your client&#8217\;s business. Goods and mate
 rials that are imported into the US from foreign countries are often s
 ubject to tariffs/duties payable upon entrance into US Commerce.</div>
 \n<div dir=auto></div>\n<div dir=auto>The FTZ Consulting Firm that wil
 l be presenting this educational session is</div>\n<div dir=auto>\n<di
 v dir=auto>\n<p>ICSM  <a title= href=https://gcc02.safelinks.protectio
 n.outlook.com/?url=https%3A%2F%2Fiscm.co%2F&amp\;data=04%7C01%7CGary.H
 aber%40delaware.gov%7Ca7e8e0782ca74ba5820f08d916ef396f%7C8c09e56951c54
 deeabb28b99c32a4396%7C0%7C0%7C637566038975003435%7CUnknown%7CTWFpbGZsb
 3d8eyJWIjoiMC4wLjAwMDAiLCJQIjoiV2luMzIiLCJBTiI6Ik1haWwiLCJXVCI6Mn0%3D%
 7C1000&amp\;sdata=spEPIBOji5aSWYVlHD7ORuMnfnn8NCXSDdoR5JhL6%2FY%3D&amp
 \;reserved=0 target=_blank rel=noopener noreferrer data-auth=Verificat
 ionFailed data-linkindex=0>https://iscm.co/</a></p>\n<p>Sean Lydon &am
 p\; Melissa Irmen will be sharing real-life practical examples of how 
 the program works.</p>\n<p>Pre-Registration is REQUIRED.</p>\n<p>Seati
 ng is limited to 50 attendees and we will be providing boxed lunches w
 ith bottled water. No alcoholic beverages are permitted. You may bring
  alternative food/drink options with you\; however\, the Park will req
 uire you to carry out your trash when you leave.</p>\n<p>The event wil
 l be held in Cape Henlopen State Park at the large pavilion.</p>\n<p>T
 here IS a fee to enter the Park. However\, there is NOT a fee to atten
 d the educational session.</p>\n<div dir=auto>To Register\, please sen
 d the following information to patricia.cannon@delaware.gov with FTZ E
 vent in the Subject line.</div>\n<div dir=auto></div>\n<div dir=auto>N
 ame:</div>\n<div dir=auto>Title:</div>\n<div dir=auto>Organization:</d
 iv>\n<div dir=auto>Telephone #:</div>\n</div>\n</div>\n
URL:https://business.delaware.gov/events/foreign-trade-zone-seminar/?l
 ang=en
ATTACH:https://business.delaware.gov/events/foreign-trade-zone-seminar
 /?lang=en
LOCATION:Cape Henlopen State Park\, 15099 Cape Henlopen Drive\, Lewes
END:VEVENT
END:VCALENDAR
