BEGIN:VCALENDAR
VERSION:2.0
METHOD:PUBLISH
PRODID:-//hacksw/handcal//NONSGML v1.0//EN
BEGIN:VEVENT
DTSTAMP:20260421T162305Z
DTSTART:20210630T130000Z
DTEND:20210630T143000Z
UID:20210630T130000Z-20210630T143000Z-5129@business.delaware.gov
SUMMARY:New Castle County Chamber: Microsoft PowerPoint Training
DESCRIPTION:Description\nIn partnership with the Delaware Black Chambe
 r of Commerce\, join us for Microsoft PowerPoint Level 200 training!\n
 \nPowerPoint allows you to create\, view\, present\, or share presenta
 tions quickly and easily.  Deeply integrated with Microsoft 365 includ
 ing utilization of one’s digital identity within Microsoft 365. Permis
 sions\, presence\, and more are tied to this identity.\n\nNote: Attend
 ees should already have a basic understanding of Microsoft Powerpoint.
 \n\nObjectives:\n•Understand and practice using Themes available in Po
 werPoint\n•Using the Design Ideas menu to use alternate slide formats 
 automatically generated\n•Using Animation effects including Entrance\,
  Emphasis\, Exit and Motion Paths\n•Best practices include transitions
  and animations\, WordArt\, SmartArt\, tables and charts\, links and v
 ideos\n•3D models and morphing for additional motion options\n\nFree.
X-ALT-DESC;FMTTYPE=text/html:<h3 class=gz-subtitle>Description</h3>\n<
 p>In partnership with the Delaware Black Chamber of Commerce\, join us
  for Microsoft PowerPoint Level 200 training!</p>\n<p>PowerPoint allow
 s you to create\, view\, present\, or share presentations quickly and 
 easily.  Deeply integrated with Microsoft 365 including utilization of
  one’s digital identity within Microsoft 365. Permissions\, presence\,
  and more are tied to this identity.</p>\n<p>Note: Attendees should al
 ready have a basic understanding of Microsoft Powerpoint.</p>\n<p>Obje
 ctives:<br />\n•Understand and practice using Themes available in Powe
 rPoint<br />\n•Using the Design Ideas menu to use alternate slide form
 ats automatically generated<br />\n•Using Animation effects including 
 Entrance\, Emphasis\, Exit and Motion Paths<br />\n•Best practices inc
 lude transitions and animations\, WordArt\, SmartArt\, tables and char
 ts\, links and videos<br />\n•3D models and morphing for additional mo
 tion options</p>\n<p>Free.</p>\n
URL:https://business.delaware.gov/events/new-castle-county-chamber-mic
 rosoft-powerpoint-training/?lang=en
ATTACH:https://business.delaware.gov/events/new-castle-county-chamber-
 microsoft-powerpoint-training/?lang=en
END:VEVENT
END:VCALENDAR
