BEGIN:VCALENDAR
VERSION:2.0
METHOD:PUBLISH
PRODID:-//hacksw/handcal//NONSGML v1.0//EN
BEGIN:VEVENT
DTSTAMP:20260425T020911Z
DTSTART:20210908T143000Z
DTEND:20210908T210000Z
UID:20210908T143000Z-20210908T210000Z-5214@business.delaware.gov
SUMMARY:Delaware State Chamber 28th Annual Chamber Chase Golf Tourname
 nt
DESCRIPTION:AGENDA\n10:30 AM     Bag Drop & Sign In\n11:00 AM     Lunc
 h\n12:30 PM     Shotgun Start\n5:30 PM       Cocktail Awards Ceremony\
 n\nThe Chamber Chase Golf Tournament benefits “The PAC\,” the Politica
 l Action Committee of the Delaware State Chamber of Commerce. \n\n$225
  per golfer or $900 per foursome. $35 for lunch only.\n\nClick here fo
 r registration.
X-ALT-DESC;FMTTYPE=text/html:<p><u>AGENDA</u><br />\n10:30 AM     Bag 
 Drop &amp\; Sign In<br />\n11:00 AM     Lunch<br />\n12:30 PM     Shot
 gun Start<br />\n5:30 PM       Cocktail Awards Ceremony</p>\n<p><em><s
 trong>The Chamber Chase Golf Tournament benefits “The PAC\,” the Polit
 ical Action Committee of the Delaware State Chamber of Commerce. </str
 ong></em></p>\n<p>$225 per golfer or $900 per foursome. $35 for lunch 
 only.</p>\n<p><a href=https://web.dscc.com/events/28th-Annual-Chamber-
 Chase-Golf-Tournament-2640/details>Click here</a> for registration.</p
 >\n
URL:https://business.delaware.gov/events/delaware-state-chamber-28th-a
 nnual-chamber-chase-golf-tournament/
ATTACH:https://business.delaware.gov/events/delaware-state-chamber-28t
 h-annual-chamber-chase-golf-tournament/
LOCATION:Kings Creek Country Club\, One Kings Creek Circle\, Rehoboth 
 Beach
END:VEVENT
END:VCALENDAR
