BEGIN:VCALENDAR
VERSION:2.0
METHOD:PUBLISH
PRODID:-//hacksw/handcal//NONSGML v1.0//EN
BEGIN:VEVENT
DTSTAMP:20260424T204929Z
DTSTART:20210921T210000Z
DTEND:20210922T000000Z
UID:20210921T210000Z-20210922T000000Z-5217@business.delaware.gov
SUMMARY:Delaware State Chamber Delaware Networking Station
DESCRIPTION:Join us for the Delaware Networking Station - Your Busines
 s Connection Destination. The Delaware State Chamber of Commerce and B
 etter Business Bureau of Delaware are partnering for our annual joint 
 tabletop mixer at the Chase Center on the Riverfront.\n\nNetwork with 
 more than 100 exhibitors and 500 attendees. You have the opportunity t
 o get in front of hundreds of new contacts and prospects during the la
 rgest business to business tabletop event in Delaware. It is FREE to a
 ttend.\n\nClick here to view the floor plan. *Please include your tabl
 e number request in the Additional Information Box that will appear on
 ce you select your Item.\n\nNew sponsorship opportunities available! C
 ontact Helana Rodriguez at hrodriguez@dscc.com or (302) 576-6575 for i
 nformation. Click here to download the sponsorship sheet.\n\nEARLY BIR
 D EXHIBIT TABLE RATES:\nDSCC/BBB Member Regular Table - $299 $249\nDSC
 C/BBB Member Premium Table - $399 $349\nNon-member Regular Table - $34
 9 $299\nNon-member Premium Table - $449 $399\nNonprofit Table - $199\n
 Electricity - $100 additional
X-ALT-DESC;FMTTYPE=text/html:<p><em><strong>Join us for the Delaware N
 etworking Station &#8211\; Your Business Connection Destination.</stro
 ng></em><strong> </strong><a href=http://www.dscc.com/ target=_blank r
 el=noopener>The Delaware State Chamber of Commerce</a> and <a href=htt
 ps://www.bbb.org/delaware/ target=_blank rel=noopener>Better Business 
 Bureau of Delaware</a> are partnering for our annual joint tabletop mi
 xer at the Chase Center on the Riverfront.</p>\n<p>Network with more t
 han 100 exhibitors and 500 attendees. You have the opportunity to get 
 in front of hundreds of new contacts and prospects during the largest 
 business to business tabletop event in Delaware. <strong>It</strong><s
 trong> is FREE to attend.</strong></p>\n<p><em><strong>Click <a href=h
 ttps://web.dscc.com/External/WCPages/WCWebContent/WebContentPage.aspx?
 ContentID=6672 target=_blank rel=noopener>here</a> to view the floor p
 lan. *Please include your table number request in the Additional Infor
 mation Box that will appear once you select your Item.</strong></em></
 p>\n<p>New sponsorship opportunities available! Contact Helana Rodrigu
 ez at <a href=mailto:hrodriguez@dscc.com?subject=DE%20Networking%20Sta
 tion>hrodriguez@dscc.com</a> or (302) 576-6575 for information. Click 
 <a href=https://web.dscc.com/External/WCPages/WCWebContent/WebContentP
 age.aspx?ContentID=6573 target=_blank rel=noopener>here</a> to downloa
 d the sponsorship sheet.</p>\n<p><u><strong>EARLY BIRD EXHIBIT TABLE R
 ATES:</strong></u><br />\nDSCC/BBB Member Regular Table &#8211\; <s>$2
 99</s> <strong>$249</strong><br />\nDSCC/BBB Member Premium Table &#82
 11\; <s>$399</s> <strong>$349</strong><br />\nNon-member Regular Table
  &#8211\; <s>$349</s> <strong>$299</strong><br />\nNon-member Premium 
 Table &#8211\; <s>$449</s> <strong>$399</strong><br />\nNonprofit Tabl
 e &#8211\; $199<br />\nElectricity &#8211\; $100 additional</p>\n
URL:https://business.delaware.gov/events/delaware-state-chamber-delawa
 re-networking-station-2/
ATTACH:https://business.delaware.gov/events/delaware-state-chamber-del
 aware-networking-station-2/
LOCATION:Chase Center on the Riverfront\, 815 Justison St\, Wilmington
END:VEVENT
END:VCALENDAR
