BEGIN:VCALENDAR
VERSION:2.0
METHOD:PUBLISH
PRODID:-//hacksw/handcal//NONSGML v1.0//EN
BEGIN:VEVENT
DTSTAMP:20260425T150848Z
DTSTART:20210908T130000Z
DTEND:20210908T160000Z
UID:20210908T130000Z-20210908T160000Z-5387@business.delaware.gov
SUMMARY:Government Support Services: Vendor Day Part 1
DESCRIPTION:Vendor Day\n\nUnderstanding How the State of Delaware Does
  Business\n\nThis educational opportunity has been offered 37 times ov
 er the past 8 years and has been attended by over 920 businesses.  Man
 y business owners have shared that the knowledge gained proved instrum
 ental in securing subsequent contracts with the State.\n\nHistorically
  a four hour in-person workshop\, Vendor Day has been redesigned as tw
 o virtual sessions of 2 hours each.\n\nVendor Day Part 1: September 8\
 , 2021\, 9:00 am – 11:00 am\n\n 	Explanation of how the State purchase
 s products and services\n 	Identifying existing contracts and understa
 nding who uses them\n 	Where to find information on smaller purchases\
 n\nClick here to register for Part 1
X-ALT-DESC;FMTTYPE=text/html:<p><strong><em>Vendor Day</em></strong></
 p>\n<p><strong><em>Understanding How the State of Delaware Does Busine
 ss</em></strong></p>\n<p>This educational opportunity has been offered
  37 times over the past 8 years and has been attended by over 920 busi
 nesses.  Many business owners have shared that the knowledge gained pr
 oved instrumental in securing subsequent contracts with the State.</p>
 \n<p>Historically a four hour in-person workshop\, Vendor Day has been
  redesigned as two virtual sessions of 2 hours each.</p>\n<p><strong>V
 endor Day Part 1: September 8\, 2021\, 9:00 am – 11:00 am</strong></p>
 \n<ul>\n<li>Explanation of how the State purchases products and servic
 es</li>\n<li>Identifying existing contracts and understanding who uses
  them</li>\n<li>Where to find information on smaller purchases</li>\n<
 /ul>\n<p><a href=https://www.eventbrite.com/e/vendor-day-part-1-septem
 ber-2021-tickets-166038661105>Click here</a> to register for Part 1</p
 >\n
URL:https://business.delaware.gov/events/government-support-services-v
 endor-day-part-1/?lang=en
ATTACH:https://business.delaware.gov/events/government-support-service
 s-vendor-day-part-1/?lang=en
END:VEVENT
END:VCALENDAR
