BEGIN:VCALENDAR
VERSION:2.0
METHOD:PUBLISH
PRODID:-//hacksw/handcal//NONSGML v1.0//EN
BEGIN:VEVENT
DTSTAMP:20260423T094002Z
DTSTART:20210917T220000Z
DTEND:20210918T010000Z
UID:20210917T220000Z-20210918T010000Z-5451@business.delaware.gov
SUMMARY:Delaware Black Chamber of Commerce: Anniversary Celebration Di
 nner
DESCRIPTION:Join the Delaware Black Chamber of Commerce for a one-year
  anniversary celebration dinner at the Christiana Hilton.\n\nTickets: 
 $100\n\nClick here to register.
X-ALT-DESC;FMTTYPE=text/html:<p>Join the Delaware Black Chamber of Com
 merce for a one-year anniversary celebration dinner at the Christiana 
 Hilton.</p>\n<p>Tickets: $100</p>\n<p><a href=https://delawareblackcha
 mber.growthzoneapp.com/ap/Events/Register/QLmmbAWL?sourceTypeId=Websit
 e&amp\;mode=Attendee>Click here</a> to register.</p>\n
URL:https://business.delaware.gov/events/delaware-black-chamber-of-com
 merce-anniversary-celebration-dinner/?lang=en
ATTACH:https://business.delaware.gov/events/delaware-black-chamber-of-
 commerce-anniversary-celebration-dinner/?lang=en
LOCATION:Christiana Hilton\, 100 Continental Drive\, Newark
END:VEVENT
END:VCALENDAR
