BEGIN:VCALENDAR
VERSION:2.0
METHOD:PUBLISH
PRODID:-//hacksw/handcal//NONSGML v1.0//EN
BEGIN:VEVENT
DTSTAMP:20260425T203317Z
DTSTART:20210922T120000Z
DTEND:20210922T133000Z
UID:20210922T120000Z-20210922T133000Z-5495@business.delaware.gov
SUMMARY:Delaware State Chamber of Commerce: Delaware Business Childcar
 e Roundtable
DESCRIPTION:Business leaders in Delaware\, we want to hear from you. D
 isruptions to the child care landscape in Delaware throughout the COVI
 D-19 pandemic have created unique challenges for businesses and for wo
 rking parents\, who make up a critical part of Delaware’s workforce. T
 o help build a more inclusive economic recovery\, the Delaware State C
 hamber of Commerce\, the Federal Reserve Bank of Philadelphia\, Rodel\
 , and the Delaware Department of Education are interested in how to em
 power businesses and the people who operate them in recovery.\nThis ro
 undtable conversation\, hosted by the Delaware State Chamber of Commer
 ce and the Philadelphia Fed\, will provide an opportunity for business
  leaders to share their perspectives\, beyond statistics and the data\
 , about how they are navigating this crisis and challenges related to 
 their employees’ child care needs. The confidential conversations will
  inform strategy for stakeholders across Delaware to support businesse
 s in recovery.\n\nFree\n\nClick here to register.
X-ALT-DESC;FMTTYPE=text/html:<p>Business leaders in Delaware\, we want
  to hear from you. Disruptions to the child care landscape in Delaware
  throughout the COVID-19 pandemic have created unique challenges for b
 usinesses and for working parents\, who make up a critical part of Del
 aware’s workforce. To help build a more inclusive economic recovery\, 
 the <a href=https://www.dscc.com/>Delaware State Chamber of Commerce</
 a>\, the <a href=https://www.philadelphiafed.org/>Federal Reserve Bank
  of Philadelphia</a>\, <a href=https://rodelde.org/ataglance/>Rodel</a
 >\, and the<a href=https://www.doe.k12.de.us/> Delaware Department of 
 Education</a> are interested in how to empower businesses and the peop
 le who operate them in recovery.<br />\nThis roundtable conversation\,
  hosted by the Delaware State Chamber of Commerce and the Philadelphia
  Fed\, will provide an opportunity for business leaders to share their
  perspectives\, beyond statistics and the data\, about how they are na
 vigating this crisis and challenges related to their employees’ child 
 care needs. The confidential conversations will inform strategy for st
 akeholders across Delaware to support businesses in recovery.</p>\n<p>
 Free</p>\n<p><a href=https://web.cvent.com/event/6e3da99c-59ac-4cb4-84
 a9-a0a5ac320bb5/summary>Click here</a> to register.</p>\n
URL:https://business.delaware.gov/events/delaware-state-chamber-of-com
 merce-delaware-business-childcare-roundtable/?lang=en
ATTACH:https://business.delaware.gov/events/delaware-state-chamber-of-
 commerce-delaware-business-childcare-roundtable/?lang=en
END:VEVENT
END:VCALENDAR
