BEGIN:VCALENDAR
VERSION:2.0
METHOD:PUBLISH
PRODID:-//hacksw/handcal//NONSGML v1.0//EN
BEGIN:VEVENT
DTSTAMP:20260424T204930Z
DTSTART:20210915T130000Z
DTEND:20210915T200000Z
UID:20210915T130000Z-20210915T200000Z-5510@business.delaware.gov
SUMMARY:Business Writing Workshop
DESCRIPTION:Time equals money in the work world\, so creating clear do
 cuments quickly that can be understood easily is crucial. Join Linda C
 omerford\, Comerford Consulting for this rewarding on-line course via 
 Zoom\, September 15: 9:00 a.m. to 4:00 p.m.  Just $199 per person for 
 Delaware Bankers Association members! ($249 for non-members)\n\nWorksh
 op Objectives: After attending this course\, participants will benefit
  from an increased ability to:\n\n 	Identify varied audiences and purp
 oses for writing\;\n 	Polish rough edges of their writing style in par
 agraphs\, sentences\, words\, and format\;\n 	Write more effective doc
 uments while following a more efficient writing process\; and\,\n 	App
 ly course concepts to their actual writing samples.\n\nEmail corinne.s
 tayton@debankers.com for information.
X-ALT-DESC;FMTTYPE=text/html:<table border=0 cellspacing=0 cellpadding
 =0><thead><tr>\n<th>Time equals money in the work world\, so creating 
 clear documents quickly that can be understood easily is crucial. Join
  Linda Comerford\, Comerford Consulting for this rewarding on-line cou
 rse via Zoom\, <strong>September 15: 9:00 a.m. to 4:00 p.m.</strong>  
 Just $199 per person for Delaware Bankers Association members! ($249 f
 or non-members)\n<p>Workshop Objectives: After attending this course\,
  participants will benefit from an increased ability to:</p>\n<ul>\n<l
 i>Identify varied audiences and purposes for writing\;</li>\n<li>Polis
 h rough edges of their writing style in paragraphs\, sentences\, words
 \, and format\;</li>\n<li>Write more effective documents while followi
 ng a more efficient writing process\; and\,</li>\n<li>Apply course con
 cepts to their actual writing samples.</li>\n</ul>\n<p>Email corinne.s
 tayton@debankers.com for information.</p></th>\n</tr></thead>\n<tbody>
 \n\n</tbody>\n</table>\n
URL:https://business.delaware.gov/events/business-writing-workshop/
ATTACH:https://business.delaware.gov/events/business-writing-workshop/
END:VEVENT
END:VCALENDAR
