BEGIN:VCALENDAR
VERSION:2.0
METHOD:PUBLISH
PRODID:-//hacksw/handcal//NONSGML v1.0//EN
BEGIN:VEVENT
DTSTAMP:20260425T195225Z
DTSTART:20210922T210000Z
DTEND:20210922T230000Z
UID:20210922T210000Z-20210922T230000Z-5519@business.delaware.gov
SUMMARY:Rehoboth Beach-Dewey Beach Chamber: Business After Hours
DESCRIPTION:Members are invited to attend monthly Business After Hours
 !  These mixers offer a great opportunity to meet and network with fel
 low members.  Each event runs from 5-7 PM.  A $1.00 donation is collec
 ted at the door which creates the funds for the 50/50 raffle.  Busines
 s card drawings are also held and door prizes are given out to the luc
 ky winners!
X-ALT-DESC;FMTTYPE=text/html:<p>Members are invited to attend monthly 
 Business After Hours!  These mixers offer a great opportunity to meet 
 and network with fellow members.  Each event runs from 5-7 PM.  A $1.0
 0 donation is collected at the door which creates the funds for the 50
 /50 raffle.  Business card drawings are also held and door prizes are 
 given out to the lucky winners!</p>\n
URL:https://business.delaware.gov/events/rehoboth-beach-dewey-beach-ch
 amber-business-after-hours-8/?lang=en
ATTACH:https://business.delaware.gov/events/rehoboth-beach-dewey-beach
 -chamber-business-after-hours-8/?lang=en
LOCATION:The Lighthouse Restaurant\, 1301 Coastal Highway\, Dewey Beac
 h
END:VEVENT
END:VCALENDAR
