BEGIN:VCALENDAR
VERSION:2.0
METHOD:PUBLISH
PRODID:-//hacksw/handcal//NONSGML v1.0//EN
BEGIN:VEVENT
DTSTAMP:20260422T000412Z
DTSTART:20220111T160000Z
DTEND:20220111T170000Z
UID:20220111T160000Z-20220111T170000Z-5903@business.delaware.gov
SUMMARY:Central Delaware Chamber of Commerce Young Professionals Socia
 l
DESCRIPTION:Join the Central Delaware Chamber of Commerce for a Young 
 Professionals Social.\n\nCost: $5 for Chamber members\, $15 for non-me
 mbers.\n\nClick here for registration.
X-ALT-DESC;FMTTYPE=text/html:<p>Join the Central Delaware Chamber of C
 ommerce for a Young Professionals Social.</p>\n<p>Cost: $5 for Chamber
  members\, $15 for non-members.</p>\n<p><a href=https://cca.cdcc.net/E
 vtListing.aspx?dbid2=DECDEL&amp\;evtid=232685&amp\;class=B>Click here<
 /a> for registration.</p>\n
URL:https://business.delaware.gov/events/central-delaware-chamber-of-c
 ommerce-young-professionals-social-5/?lang=en
ATTACH:https://business.delaware.gov/events/central-delaware-chamber-o
 f-commerce-young-professionals-social-5/?lang=en
END:VEVENT
END:VCALENDAR
