BEGIN:VCALENDAR
VERSION:2.0
METHOD:PUBLISH
PRODID:-//hacksw/handcal//NONSGML v1.0//EN
BEGIN:VEVENT
DTSTAMP:20260422T164252Z
DTSTART:20220621T150000Z
DTEND:20220621T160000Z
UID:20220621T150000Z-20220621T160000Z-6646@business.delaware.gov
SUMMARY:Delaware State Chamber of Commerce: Your Health: An Arm's Leng
 th Away
DESCRIPTION:Wearables are more and more a part of our everyday life. F
 rom smartwatches to fitness trackers\, ECG and blood pressure monitors
 \, biosensors and more\, wearables are becoming increasingly popular a
 nd more powerful. They are changing the face of health care.\n\nBy int
 ersecting data\, technology\, and patient care\, wearables are allowin
 g those in the health industry to innovate and create news ways of del
 ivering care to not only improve patient care but also patient experie
 nce.\n\nThis webinar will explore the latest in wearable technologies\
 , their benefits\, and how employers\, employees and health providers 
 are deploying them to create more comprehensive pictures of patients a
 nd positively alter the trajectory of one’s care.\n\nPanelists:\nSayvo
 n Amit\, Head of Global Partnerships & Digital Effectiveness\, AstraZe
 neca\nCatherine Burch\, MS\, CXA\, CUA\, Health & Technology Innovatio
 n Center\, ChristianaCare\nDr. James Mault\, MD\, FACS\, Founder & CEO
 \, BioIntelliSense\nDr. Sarah Schenck\, M.D.\, FACP\, Medical Director
  of Virtualist Medicine\, Center for Virtual Health\, ChristianaCare\n
 \nFree\n\nClick here to register.
X-ALT-DESC;FMTTYPE=text/html:<p>Wearables are more and more a part of 
 our everyday life. From smartwatches to fitness trackers\, ECG and blo
 od pressure monitors\, biosensors and more\, wearables are becoming in
 creasingly popular and more powerful. They are changing the face of he
 alth care.</p>\n<p>By intersecting data\, technology\, and patient car
 e\, wearables are allowing those in the health industry to innovate an
 d create news ways of delivering care to not only improve patient care
  but also patient experience.</p>\n<p>This webinar will explore the la
 test in wearable technologies\, their benefits\, and how employers\, e
 mployees and health providers are deploying them to create more compre
 hensive pictures of patients and positively alter the trajectory of on
 e’s care.</p>\n<p>Panelists:<br />\n<strong>Sayvon Amit</strong>\, Hea
 d of Global Partnerships &amp\; Digital Effectiveness\, AstraZeneca<br
  />\n<strong>Catherine Burch\, MS\, CXA\, CUA</strong>\, Health &amp\;
  Technology Innovation Center\, ChristianaCare<br />\n<strong>Dr. Jame
 s Mault\, MD\, FACS</strong>\, Founder &amp\; CEO\, BioIntelliSense<br
  />\n<strong>Dr. Sarah Schenck\, M.D.\, FACP</strong>\, Medical Direct
 or of Virtualist Medicine\, Center for Virtual Health\, ChristianaCare
 </p>\n<p>Free</p>\n<p><a href=https://web.dscc.com/events/WEBINAR-Your
 -Health-an-Arms-Length-Away-2888/details>Click here</a> to register.</
 p>\n
URL:https://business.delaware.gov/events/delaware-state-chamber-of-com
 merce-your-health-an-arms-length-away/?lang=en
ATTACH:https://business.delaware.gov/events/delaware-state-chamber-of-
 commerce-your-health-an-arms-length-away/?lang=en
END:VEVENT
END:VCALENDAR
