BEGIN:VCALENDAR
VERSION:2.0
METHOD:PUBLISH
PRODID:-//hacksw/handcal//NONSGML v1.0//EN
BEGIN:VEVENT
DTSTAMP:20260422T164253Z
DTSTART:20230926T130000Z
DTEND:20230926T170000Z
UID:20230926T130000Z-20230926T170000Z-7414@business.delaware.gov
SUMMARY:Delaware Small Business Development Center: DSU Presents Intro
 duction to Quickbooks
DESCRIPTION:Presented by SBDC:\n\nJoin Delaware State University and t
 he Community Navigator program in an Introduction to Quickbooks traini
 ng. This is a basic course on the QuickBooks accounting software\, inc
 luding: setting up a new company\; recording transactions with custome
 rs\, vendors and employees\; running reports and customizing them\; an
 d changing forms and generating documents.\n\nRequirement: A working l
 aptop or tablet with Windows or Apple operating system and the capabil
 ity of accessing the internet\; with either Chrome\, Firefox\, or Micr
 osoft Edge browsers.\n\nRecommendation: A familiarity with accounting 
 or bookkeeping terminology.\n\nThis is an in-person event located at T
 he Barros Building: 205 S State St\, Dover\, DE 19901\n\nLearn More He
 re
X-ALT-DESC;FMTTYPE=text/html:<p>Presented by SBDC:</p>\n<p>Join Delawa
 re State University and the Community Navigator program in an <strong>
 Introduction to Quickbooks</strong> training. This is a basic course o
 n the QuickBooks accounting software\, including: setting up a new com
 pany\; recording transactions with customers\, vendors and employees\;
  running reports and customizing them\; and changing forms and generat
 ing documents.</p>\n<p><em>Requirement:</em> A working laptop or table
 t with Windows or Apple operating system and the capability of accessi
 ng the internet\; with either Chrome\, Firefox\, or Microsoft Edge bro
 wsers.</p>\n<p><em>Recommendation:</em> A familiarity with accounting 
 or bookkeeping terminology.</p>\n<p>This is an <strong>in-person</stro
 ng> event located at <strong>The Barros Building</strong>: 205 S State
  St\, Dover\, DE 19901</p>\n<p><a href=https://delawaresbdc.org/traini
 ng/events/#event=76820048\;instance=20230926090000?popup=1>Learn More 
 Here</a></p>\n
URL:https://business.delaware.gov/events/delaware-small-business-devel
 opment-center-dsu-presents-introduction-to-quickbooks-2/?lang=en
ATTACH:https://business.delaware.gov/events/delaware-small-business-de
 velopment-center-dsu-presents-introduction-to-quickbooks-2/?lang=en
LOCATION:The Barros Building\, 205 South State Street\, Dover
END:VEVENT
END:VCALENDAR
